BEGIN:VCALENDAR
VERSION:2.0
PRODID:-//wp-events-plugin.com//7.2.3.1//EN
TZID:Europe/Paris
X-WR-TIMEZONE:Europe/Paris
BEGIN:VEVENT
UID:853@bananierbleu.fr
DTSTART;TZID=Europe/Paris:20140528T213000
DTEND;TZID=Europe/Paris:20140528T213000
DTSTAMP:20140521T150653Z
URL:https://bananierbleu.fr/concerts-test/jowee-omicil-2/
SUMMARY:Jowee Omicil - Petit Journal Montparnasse - 28 Mai 14 21:30
DESCRIPTION:A l'occasion de la sortie du nouvel album "Naked"\nJowee Omicil
 \, lead\, sax\, clarinet\nMichel Alibo\, basse\nFelix Sabal Lecco\, batter
 ie\nJean Phi Dary\, claviers\n\nlien billetterie : http://petitjournalmont
 parnasse.com/concert/jowee-omicil/#em-booking
ATTACH;FMTTYPE=image/jpeg:https://bananierbleu.fr/wp-content/uploads/2014/
 05/Jowee_400_featured.jpg
CATEGORIES:Concerts en France
LOCATION:Petit Journal Montparnasse\, 13 rue du Commandant Mouchotte\, Pari
 s\, 75014\, Ile de France\, France
GEO:48.8391;2.32106
X-APPLE-STRUCTURED-LOCATION;VALUE=URI;X-ADDRESS=13 rue du Commandant Moucho
 tte\, Paris\, 75014\, Ile de France\, France;X-APPLE-RADIUS=100;X-TITLE=Pe
 tit Journal Montparnasse:geo:48.8391,2.32106
END:VEVENT
BEGIN:VTIMEZONE
TZID:Europe/Paris
X-LIC-LOCATION:Europe/Paris
BEGIN:DAYLIGHT
DTSTART:20140330T030000
TZOFFSETFROM:+0100
TZOFFSETTO:+0200
TZNAME:CEST
END:DAYLIGHT
END:VTIMEZONE
END:VCALENDAR