BEGIN:VCALENDAR
VERSION:2.0
PRODID:-//wp-events-plugin.com//7.2.3.1//EN
TZID:Europe/Paris
X-WR-TIMEZONE:Europe/Paris
BEGIN:VEVENT
UID:3848@bananierbleu.fr
DTSTART;TZID=Europe/Paris:20241019T210000
DTEND;TZID=Europe/Paris:20241019T210000
DTSTAMP:20241014T103243Z
URL:https://bananierbleu.fr/concerts-test/julien-coriatt-brand-new-quintet
 -3/
SUMMARY:Julien Coriatt Brand New Quintet - Sortie 13 - 19 Oct 24 21:00
DESCRIPTION:Dans le cadre du Festival Mois Kréyol. \nLa musique du Julien 
 Coriatt Brand New Quintet célèbre la vie. A la rencontre entre jazz et m
 usique des Caraïbes\, elle interroge les racines\, convoque la mémoire\,
  affirme et défend des valeurs aussi. Chaque composition est une invitati
 on à la danse\, chaque mélodie un chant. Tout un répertoire en hommage 
 au passé\, au présent et qui dessine ce que le futur peut avoir de plus 
 enthousiasmant. En invité exceptionnel\, le désormais incontournable tro
 mpettiste américain de Kansas City\, Hermon Mehari.\nLe pianiste et compo
 siteur guadeloupéen Julien Coriatt a fondé le Brand New Quintet\, groupe
  cosmopolite constitué des musiciens parmi les plus talentueux et demand
 és sur la scène jazz et musiques du monde :\n\n\n 	\nAmina Mezaache flû
 tiste franco-algérienne\, spécialiste de la musique brésilienne et impr
 ovisatrice de grand talent\,\n\n 	\nDamian Nueva contrebassiste cubain qui
 \, lorsqu'il n'est pas en tournée internationale\, est également directe
 ur musical et acteur pour Netflix\,\n\n 	\nStefano Lucchini\, batteur fran
 co-italien polymorphe que l'on rencontre aussi bien sur la scène pop inte
 rnationale qu'au sein des projets de Magic Malik\, Yoann Loustalot et Chri
 stophe Panzani.\n\n
ATTACH;FMTTYPE=image/jpeg:https://bananierbleu.fr/wp-content/uploads/2024/
 10/Julien_Coriatt.webp
CATEGORIES:Concerts en France
LOCATION:Sortie 13\, Rue Walter Scott\, Pessac\, Nouvelle Aquitaine\, 33600
 \, NouvelleAquitaine\, France
X-APPLE-STRUCTURED-LOCATION;VALUE=URI;X-ADDRESS=Rue Walter Scott\, Pessac\,
  Nouvelle Aquitaine\, 33600\, NouvelleAquitaine\, France;X-APPLE-RADIUS=10
 0;X-TITLE=Sortie 13:geo:0,0
END:VEVENT
BEGIN:VTIMEZONE
TZID:Europe/Paris
X-LIC-LOCATION:Europe/Paris
BEGIN:DAYLIGHT
DTSTART:20240331T030000
TZOFFSETFROM:+0100
TZOFFSETTO:+0200
TZNAME:CEST
END:DAYLIGHT
END:VTIMEZONE
END:VCALENDAR