BEGIN:VCALENDAR
VERSION:2.0
PRODID:-//wp-events-plugin.com//7.2.3.1//EN
TZID:Europe/Paris
X-WR-TIMEZONE:Europe/Paris
BEGIN:VEVENT
UID:531@bananierbleu.fr
DTSTART;TZID=Europe/Paris:20130517T200000
DTEND;TZID=Europe/Paris:20130517T200000
DTSTAMP:20130515T072526Z
URL:https://bananierbleu.fr/concerts-test/julien-coriatt-invite-jocelyn-me
 nard/
SUMMARY:Julien Coriatt invite Jocelyn Ménard - le Bab Ilo - 17 Mai 13 20:0
 0
DESCRIPTION:Attention\, à ne pas rater ! Vendredi soir\, en prélude aux c
 oncerts de Samedi et Dimanche au Baiser salé\, Julien Coriatt invite Joce
 lyn Ménard pour un set intense\, à 20h au Bab'Ilo. Avec Julien Coriatt (
 pno)\, Jocelyn Ménard (sax)\, Sava Medan (cb) et John Betsch (dms).
CATEGORIES:Concerts en France
LOCATION:le Bab Ilo\, 9\, rue du Baigneur\, Paris\, Île de France\, 75018\
 , IleDeFrance\, France
GEO:48.89007669999999;2.344715400000041
X-APPLE-STRUCTURED-LOCATION;VALUE=URI;X-ADDRESS=9\, rue du Baigneur\, Paris
 \, Île de France\, 75018\, IleDeFrance\, France;X-APPLE-RADIUS=100;X-TITL
 E=le Bab Ilo:geo:48.89007669999999,2.344715400000041
END:VEVENT
BEGIN:VTIMEZONE
TZID:Europe/Paris
X-LIC-LOCATION:Europe/Paris
BEGIN:DAYLIGHT
DTSTART:20130331T030000
TZOFFSETFROM:+0100
TZOFFSETTO:+0200
TZNAME:CEST
END:DAYLIGHT
END:VTIMEZONE
END:VCALENDAR