BEGIN:VCALENDAR
VERSION:2.0
PRODID:-//wp-events-plugin.com//7.2.3.1//EN
TZID:Europe/Paris
X-WR-TIMEZONE:Europe/Paris
BEGIN:VEVENT
UID:278@bananierbleu.fr
DTSTART;TZID=Europe/Paris:20120808T200000
DTEND;TZID=Europe/Paris:20120808T200000
DTSTAMP:20120803T150418Z
URL:https://bananierbleu.fr/concerts-test/k-leaf-2/
SUMMARY:K-Leaf - la Bellevilloise - 8 Août 12 20:00
DESCRIPTION:K-Leaf (jazz caribéen) sera le 8 Aout 2012 à 20 heures à la 
 Bellevilloise\n\nMuni de sa guitare et de sa voix chaude et envoutante K-l
 eaf nous propose un univers musical bien à lui et savamment construit ou 
 se mêlent des influences reggae\, soul\, funk et jazz le tout agrémenté
  de textes en créole comme un hommage à la musique de son enfance.\n\nK-
 leaf : une invitation au voyage et à l’émotion…\n\nEntrée libre.\nN
 ’hésitez pas\, venez nombreux.
CATEGORIES:Concerts en France
LOCATION:la Bellevilloise\, 19-21 Rue Boyer\, Paris\, Île de France\, 7502
 0\, IleDeFrance\, France
GEO:48.868586;2.392174
X-APPLE-STRUCTURED-LOCATION;VALUE=URI;X-ADDRESS=19-21 Rue Boyer\, Paris\, 
 Île de France\, 75020\, IleDeFrance\, France;X-APPLE-RADIUS=100;X-TITLE=l
 a Bellevilloise:geo:48.868586,2.392174
END:VEVENT
BEGIN:VTIMEZONE
TZID:Europe/Paris
X-LIC-LOCATION:Europe/Paris
BEGIN:DAYLIGHT
DTSTART:20120325T030000
TZOFFSETFROM:+0100
TZOFFSETTO:+0200
TZNAME:CEST
END:DAYLIGHT
END:VTIMEZONE
END:VCALENDAR