BEGIN:VCALENDAR
VERSION:2.0
PRODID:-//wp-events-plugin.com//7.2.3.1//EN
TZID:Europe/Paris
X-WR-TIMEZONE:Europe/Paris
BEGIN:VEVENT
UID:529@bananierbleu.fr
DTSTART;TZID=Europe/Paris:20130531T210000
DTEND;TZID=Europe/Paris:20130531T210000
DTSTAMP:20130511T204317Z
URL:https://bananierbleu.fr/concerts-test/k-leaf-3/
SUMMARY:K-Leaf - l'Angora - 31 Mai 13 21:00
DESCRIPTION:Venez découvrir K-leaf\, artiste soul jazz caribéen\nMuni de 
 sa guitare et de sa voix chaude et envoûtante\, il vous proposera un univ
 ers musical bien à lui et savamment construit où se mêlent des influenc
 es reggae\, soul\, funk et jazz\, le tout agrémenté de textes en créole
  : à découvrir !\n\nK-leaf ou une invitation au voyage et à l'émotion.
 ..\nPrix : 8€\nL'Angora : métro : Bastille\n
CATEGORIES:Concerts en France
LOCATION:l'Angora\, 3\, bd Richard Lenoir\, Paris\, 75011\, France
GEO:48.85472410000001;2.369512900000018
X-APPLE-STRUCTURED-LOCATION;VALUE=URI;X-ADDRESS=3\, bd Richard Lenoir\, Par
 is\, 75011\, France;X-APPLE-RADIUS=100;X-TITLE=l'Angora:geo:48.85472410000
 001,2.369512900000018
END:VEVENT
BEGIN:VTIMEZONE
TZID:Europe/Paris
X-LIC-LOCATION:Europe/Paris
BEGIN:DAYLIGHT
DTSTART:20130331T030000
TZOFFSETFROM:+0100
TZOFFSETTO:+0200
TZNAME:CEST
END:DAYLIGHT
END:VTIMEZONE
END:VCALENDAR