BEGIN:VCALENDAR
VERSION:2.0
PRODID:-//wp-events-plugin.com//7.2.3.1//EN
TZID:Europe/Paris
X-WR-TIMEZONE:Europe/Paris
BEGIN:VEVENT
UID:2385@bananierbleu.fr
DTSTART;TZID=Europe/Paris:20171006T190000
DTEND;TZID=Europe/Paris:20171006T190000
DTSTAMP:20170928T121630Z
URL:https://bananierbleu.fr/concerts-test/kaladjazz-acoustique/
SUMMARY:Kaladjazz Acoustique - la Boutique du Val - 6 Oct 17 19:00
DESCRIPTION:Gwo Ka moderne\n\nJean Remy Guédon\, saxophone\nThierry Jasmin
  Banaré\, basse\nDominique Larose\, chant\nDavid Pouradier Duteil\, batte
 rie\n\n\n Les rythmes ancestraux guadeloupéens : des sons universels sem
 és par les océans\n\nCe groupe\, c’est le grand écart entre la libert
 é du jazz de création\, les chants créoles dans leurs résonances arch
 étypales et les rythmes traditionnels du Ka : des sons universels semés 
 par les océans. Le répertoire est basé sur les rythmes traditionnels de
  la Guadeloupe (Gwoka). Sur ces derniers\, Jean-Rémy Guédon pose des mé
 lodies contemporaines grâce à un subtil jeu de « polypentatonisme » : 
 un outil d’écriture que le saxophoniste pratique depuis 8 ans dans son 
 travail d’improvisation au saxophone. Chacun chante des « Tipawol » : 
 proverbes créoles qui « sonnent » magnifiquement\, tant au niveau du se
 ns que de la prosodie.\n\nRéservation conseillée : 01 74 34 35 33 / jere
 serve@archimusic.com
ATTACH;FMTTYPE=image/jpeg:https://bananierbleu.fr/wp-content/uploads/2017/
 09/kaladjazz-660x400.jpg
CATEGORIES:Concerts en France
LOCATION:la Boutique du Val\, 17 rue des Vignes\, Meudon\, Île de France\,
  92190\, IleDeFrance\, France
GEO:48.8116908;2.2473473000000013
X-APPLE-STRUCTURED-LOCATION;VALUE=URI;X-ADDRESS=17 rue des Vignes\, Meudon\
 , Île de France\, 92190\, IleDeFrance\, France;X-APPLE-RADIUS=100;X-TITLE
 =la Boutique du Val:geo:48.8116908,2.2473473000000013
END:VEVENT
BEGIN:VTIMEZONE
TZID:Europe/Paris
X-LIC-LOCATION:Europe/Paris
BEGIN:DAYLIGHT
DTSTART:20170326T030000
TZOFFSETFROM:+0100
TZOFFSETTO:+0200
TZNAME:CEST
END:DAYLIGHT
END:VTIMEZONE
END:VCALENDAR