BEGIN:VCALENDAR
VERSION:2.0
PRODID:-//wp-events-plugin.com//7.2.3.1//EN
TZID:Europe/Paris
X-WR-TIMEZONE:Europe/Paris
BEGIN:VEVENT
UID:541@bananierbleu.fr
DTSTART;TZID=Europe/Paris:20130608T200000
DTEND;TZID=Europe/Paris:20130608T200000
DTSTAMP:20130531T114959Z
URL:https://bananierbleu.fr/concerts-test/kannik/
SUMMARY:Kannik - Bwa Galba - 8 Juin 13 20:00
DESCRIPTION:A l'occasion de la sortie de leur premier album "REFLEKSYON" le
  1er juin\, venez nombreux découvrir le "Lokal Jazz"\, l'univers musical 
 du trio KANNIK en concert. Entrée gratuite (conso sur place payante).
CATEGORIES:Concerts en Guadeloupe
LOCATION:Bwa Galba\, Plage des Galbas\, Sainte Anne\, Guadeloupe\, 97180\, 
 Guadeloupe\, Guadeloupe
GEO:16.2228963;-61.392275100000006
X-APPLE-STRUCTURED-LOCATION;VALUE=URI;X-ADDRESS=Plage des Galbas\, Sainte A
 nne\, Guadeloupe\, 97180\, Guadeloupe\, Guadeloupe;X-APPLE-RADIUS=100;X-TI
 TLE=Bwa Galba:geo:16.2228963,-61.392275100000006
END:VEVENT
BEGIN:VTIMEZONE
TZID:Europe/Paris
X-LIC-LOCATION:Europe/Paris
BEGIN:DAYLIGHT
DTSTART:20130331T030000
TZOFFSETFROM:+0100
TZOFFSETTO:+0200
TZNAME:CEST
END:DAYLIGHT
END:VTIMEZONE
END:VCALENDAR