BEGIN:VCALENDAR
VERSION:2.0
PRODID:-//wp-events-plugin.com//7.2.3.1//EN
TZID:Europe/Paris
X-WR-TIMEZONE:Europe/Paris
BEGIN:VEVENT
UID:3693@bananierbleu.fr
DTSTART;TZID=Europe/Paris:20231013T190000
DTEND;TZID=Europe/Paris:20231015T190000
DTSTAMP:20230922T160909Z
URL:https://bananierbleu.fr/concerts-test/kareen-guiock-thuram-tribute-to-
 nina-simone/
SUMMARY:Kareen Guiock-Thuram « Tribute to Nina Simone » - Sunside - 13 Oc
 t 23 19:00
DESCRIPTION:\n 	13 octobre : Georges GRANVILLE - piano \; Elvyn BIRONIEN - 
 basse \; Yoann DANIER - batterie\n 	14 octobre : Kevin JUBERT - piano \; R
 ody CEREYON - basse \; Arnaud DOLMEN - batterie\n 	15 octobre : Kevin JUBE
 RT - piano \; Rody CEREYON - basse \; Tilo BERTHOLO - batterie\n\n\n\nIl s
 uffit à l’ancienne présentatrice du 12:45 de M6 de paraître pour que 
 la mutation devienne évidence : Kareen Guiock-Thuram est bien une chanteu
 se de jazz\, et pas de celles qui minaudent pour pallier leurs faiblesses.
  Loin des plateaux télé\, la maturation fut lente avant que cette belle 
 voix aux graves envoûtants prenne assez confiance pour aborder le répert
 oire de Nina Simone. Sur scène\, elle fait mieux que s’en sortir et imp
 ose son immense classe. — L.-J.N./Télarama\n\n
ATTACH;FMTTYPE=image/jpeg:https://bananierbleu.fr/wp-content/uploads/2023/
 09/KareenGuiockThuram.png
CATEGORIES:Concerts en France
LOCATION:Sunside\, 60\, rue des Lombards\, Paris\, Île de France\, 75001\,
  IleDeFrance\, France
GEO:48.859937;2.347751
X-APPLE-STRUCTURED-LOCATION;VALUE=URI;X-ADDRESS=60\, rue des Lombards\, Par
 is\, Île de France\, 75001\, IleDeFrance\, France;X-APPLE-RADIUS=100;X-TI
 TLE=Sunside:geo:48.859937,2.347751
END:VEVENT
BEGIN:VTIMEZONE
TZID:Europe/Paris
X-LIC-LOCATION:Europe/Paris
BEGIN:DAYLIGHT
DTSTART:20230326T030000
TZOFFSETFROM:+0100
TZOFFSETTO:+0200
TZNAME:CEST
END:DAYLIGHT
END:VTIMEZONE
END:VCALENDAR