BEGIN:VCALENDAR
VERSION:2.0
PRODID:-//wp-events-plugin.com//7.2.3.1//EN
TZID:Europe/Paris
X-WR-TIMEZONE:Europe/Paris
BEGIN:VEVENT
UID:1511@bananierbleu.fr
DTSTART;TZID=Europe/Paris:20151009T213000
DTEND;TZID=Europe/Paris:20151009T213000
DTSTAMP:20150923T195849Z
URL:https://bananierbleu.fr/concerts-test/kelin-kelin-orchestra-21/
SUMMARY:Kelin-Kelin' Orchestra - le Baiser Salé - 9 Oct 15 21:30
DESCRIPTION:Dans le cadre du Festival "Jazz sur Seine" #4\n\n\n« Paris Bl
 ack Diaspora Big-Band »\n\nBrice Wassy batterie/lead\, Jean-Jacques Elan
 gué sax/lead\, Ben Labejof sax baryton\, \n\nGiovanni Hector/Mark Sims tr
 ombone\, Abbé Ngayihi piano\, Sébastien Richelieu basse\,\n\nKayou Roots
  sax tenor/ soprano\, Ronald Baker/Serigne Diagne trompette\, \n\nRoger Ko
 m/Rodolphe Lauretta sax alto\, Laurent Succab percus\n\nDe l'avis du publi
 c comme de la presse\, voici certainement l'une des meilleures proposition
 s musicales actuelles de la scène parisienne: le big-band que l'on n'atte
 ndait plus! Le Kelin-Kelin' Orchestra réinvente les sonorités traditionn
 elles et revisite les œuvres contemporaines dans une profusion culturelle
  exceptionnelle. Un voyage inédit à travers l'Afrique\, les Caraïbes et
  les Amériques entre musique traditionnelle\, jazz\, et musique contempor
 aine. Aux commandes de ce vaisseau amiral\, Brice Wassy et ses baguettes\,
  rythmicien renommé (Manu Dibango\, Don Cherry\, Salif Keita\, Jean Luc P
 onty) accompagné de Jean-Jacques Elangué et son souffle (Tony Allen\, Al
 ain Jean-Marie\, Claudine François\, Mario Canonge). Immanquable !
CATEGORIES:Concerts en France
LOCATION:le Baiser Salé\, 58\, rue des Lombards\, Paris\, Île de France\,
  75001\, IleDeFrance\, France
GEO:48.8598;2.34791
X-APPLE-STRUCTURED-LOCATION;VALUE=URI;X-ADDRESS=58\, rue des Lombards\, Par
 is\, Île de France\, 75001\, IleDeFrance\, France;X-APPLE-RADIUS=100;X-TI
 TLE=le Baiser Salé:geo:48.8598,2.34791
END:VEVENT
BEGIN:VTIMEZONE
TZID:Europe/Paris
X-LIC-LOCATION:Europe/Paris
BEGIN:DAYLIGHT
DTSTART:20150329T030000
TZOFFSETFROM:+0100
TZOFFSETTO:+0200
TZNAME:CEST
END:DAYLIGHT
END:VTIMEZONE
END:VCALENDAR