BEGIN:VCALENDAR
VERSION:2.0
PRODID:-//wp-events-plugin.com//7.2.3.1//EN
TZID:Europe/Paris
X-WR-TIMEZONE:Europe/Paris
BEGIN:VEVENT
UID:530@bananierbleu.fr
DTSTART;TZID=Europe/Paris:20130518T193000
DTEND;TZID=Europe/Paris:20130518T193000
DTSTAMP:20130514T140743Z
URL:https://bananierbleu.fr/concerts-test/kelin-kelin-orchestra-4/
SUMMARY:Kelin-Kelin' Orchestra - le Zèbre de Belleville - 18 Mai 13 19:30
DESCRIPTION:Kelin-Kelin’ Orchestra\, nouvelle méthode\, nouveau genre da
 ns l’univers musical africain\, s’abreuve des sources originelles\, tr
 ansforme l’ancien en nouveau\, réinvente les sonorités traditionnelles
  et revisite les œuvres urbaines modernes. Irrigué par une profusion cul
 turelle exceptionnelle\, le big-band invite à un partage d’émotions da
 ns une atmosphère festive.\n\nAvec Brice Wassy\, Jean-Jacques Elangué\, 
 Hervé Lebongo\, Ben Labéjof\, Nicolas Genest...
CATEGORIES:Concerts en France
LOCATION:le Zèbre de Belleville\, 63 Boulevard de Belleville\, Paris\, Ile
 DeFrance\, 75011\, Île de France\, France
GEO:48.870141;2.378608
X-APPLE-STRUCTURED-LOCATION;VALUE=URI;X-ADDRESS=63 Boulevard de Belleville\
 , Paris\, IleDeFrance\, 75011\, Île de France\, France;X-APPLE-RADIUS=100
 ;X-TITLE=le Zèbre de Belleville:geo:48.870141,2.378608
END:VEVENT
BEGIN:VTIMEZONE
TZID:Europe/Paris
X-LIC-LOCATION:Europe/Paris
BEGIN:DAYLIGHT
DTSTART:20130331T030000
TZOFFSETFROM:+0100
TZOFFSETTO:+0200
TZNAME:CEST
END:DAYLIGHT
END:VTIMEZONE
END:VCALENDAR