BEGIN:VCALENDAR
VERSION:2.0
PRODID:-//wp-events-plugin.com//7.2.3.1//EN
TZID:Europe/Paris
X-WR-TIMEZONE:Europe/Paris
BEGIN:VEVENT
UID:552@bananierbleu.fr
DTSTART;TZID=Europe/Paris:20130628T203000
DTEND;TZID=Europe/Paris:20130628T203000
DTSTAMP:20130601T090416Z
URL:https://bananierbleu.fr/concerts-test/kelin-kelin-orchestra-5/
SUMMARY:Kelin-Kelin' Orchestra -  - 28 Juin 13 20:30
DESCRIPTION:Dans le cadre de la campagne de financement participatif de son
  premier album qui s'étale du 19 Mai au 18 Juillet 2013\, le Kelin-Kelin'
  Orchestra se produira lors d'un concert événement\, le vendredi 28 Juin
  2013 à partir de 20h30 au Studio de l'Ermitage\, 8 Rue de L'ermitage\, 7
 5020\, Paris.\n\nNouvelle méthode dans le paysage musical : Le Kelin-Keli
 n’ Orchestra ! Un big-band générateur d’énergie brute qui invite à
  une balade sur des terres inconnues. Des terres hybrides\, où se rassemb
 lent 12 musiciens talentueux de générations différentes\, d’origines 
 diverses et aux parcours multiples réunis autour d’une seule et même v
 aleur : celle de la musique !\n\nL'orchestre est dirigé par Brice WASSY\,
  rythmicien renommé (Manu Dibango\, Don cherry\, Salif Keita\, Jean Luc P
 onty\, Myriam Makeba) et son talentueux complice\, le saxophoniste Jean-Ja
 cques ELANGUE (Tony Allen\, Alain Jean-Marie\, Claudine François\, Mario 
 Canonge\, Tom McCLung).\n\nNous avons ouvert une campagne de financement p
 articipatif pour notre premier album à l’adresse : http://www.indiegogo
 .com/projects/kelinkelinorchestra
CATEGORIES:Concerts en France
LOCATION:\, \, 
X-APPLE-STRUCTURED-LOCATION;VALUE=URI;X-ADDRESS=\, ;X-APPLE-RADIUS=100;X-TI
 TLE=:geo:0,0
END:VEVENT
BEGIN:VTIMEZONE
TZID:Europe/Paris
X-LIC-LOCATION:Europe/Paris
BEGIN:DAYLIGHT
DTSTART:20130331T030000
TZOFFSETFROM:+0100
TZOFFSETTO:+0200
TZNAME:CEST
END:DAYLIGHT
END:VTIMEZONE
END:VCALENDAR