BEGIN:VCALENDAR
VERSION:2.0
PRODID:-//wp-events-plugin.com//7.2.3.1//EN
TZID:Europe/Paris
X-WR-TIMEZONE:Europe/Paris
BEGIN:VEVENT
UID:627@bananierbleu.fr
DTSTART;TZID=Europe/Paris:20131010T213000
DTEND;TZID=Europe/Paris:20131010T213000
DTSTAMP:20130924T153614Z
URL:https://bananierbleu.fr/concerts-test/kelin-kelin-orchestra-6/
SUMMARY:Kelin Kelin orchestra - le Baiser Salé - 10 Oct 13 21:30
DESCRIPTION:"Afro Jazz"\nKELIN-KELIN' ORCHESTRA\nKelin-Kelin’ Orchestra\,
  nouvelle méthode\, nouveau genre dans l’univers musical africain\, s
 ’abreuve des sources originelles\, transforme l’ancien en nouveau\, r
 éinvente les sonorités traditionnelles et revisite les œuvres urbaines 
 modernes. Irrigué par une profusion culturelle exceptionnelle\, le big-ba
 nd invite à un partage d’émotions dans une atmosphère festive. 
CATEGORIES:Concerts en France
LOCATION:le Baiser Salé\, 58\, rue des Lombards\, Paris\, Île de France\,
  75001\, IleDeFrance\, France
GEO:48.8598;2.34791
X-APPLE-STRUCTURED-LOCATION;VALUE=URI;X-ADDRESS=58\, rue des Lombards\, Par
 is\, Île de France\, 75001\, IleDeFrance\, France;X-APPLE-RADIUS=100;X-TI
 TLE=le Baiser Salé:geo:48.8598,2.34791
END:VEVENT
BEGIN:VTIMEZONE
TZID:Europe/Paris
X-LIC-LOCATION:Europe/Paris
BEGIN:DAYLIGHT
DTSTART:20130331T030000
TZOFFSETFROM:+0100
TZOFFSETTO:+0200
TZNAME:CEST
END:DAYLIGHT
END:VTIMEZONE
END:VCALENDAR