BEGIN:VCALENDAR
VERSION:2.0
PRODID:-//wp-events-plugin.com//7.2.3.1//EN
TZID:Europe/Paris
X-WR-TIMEZONE:Europe/Paris
BEGIN:VEVENT
UID:3709@bananierbleu.fr
DTSTART;TZID=Europe/Paris:20231122T200000
DTEND;TZID=Europe/Paris:20231122T200000
DTSTAMP:20231104T114541Z
URL:https://bananierbleu.fr/concerts-test/korinn-pierre-fanfan-sortie-de-l
 album-rever/
SUMMARY:Körinn Pierre-Fanfan - sortie de l'album Rêver - la Petite Halle 
 - 22 Nov 23 20:00
DESCRIPTION:\nLa semaine dernière je vous annonçais la sortie de mon proc
 hain album le 17 novembre prochain.\n\n\nAujourd'hui\, pour que la fête s
 oit plus belle\, je vous invite à célébrer avec moi cette sortie d'albu
 m le 22 novembre prochain à la @lapetitehalle à 20h. Vous y découvrirez
  tous les morceaux de l'album joués en live avec la fine équipe : @jissm
 an à la basse\, @tof_muzik à la batterie\, @ruddyboa au piano et moi-mê
 me au chant.\n
ATTACH;FMTTYPE=image/jpeg:https://bananierbleu.fr/wp-content/uploads/2023/
 11/KorinnPetiteHalle.jpg
CATEGORIES:Concerts en France
LOCATION:la Petite Halle\,  Parc de la Villette  211\, av. Jean Jaurès \, 
 Paris\, Île de France\, 75019\, IleDeFrance\, France
GEO:48.8918794;2.3911855999999716
X-APPLE-STRUCTURED-LOCATION;VALUE=URI;X-ADDRESS= Parc de la Villette  211\,
  av. Jean Jaurès \, Paris\, Île de France\, 75019\, IleDeFrance\, France
 ;X-APPLE-RADIUS=100;X-TITLE=la Petite Halle:geo:48.8918794,2.3911855999999
 716
END:VEVENT
BEGIN:VTIMEZONE
TZID:Europe/Paris
X-LIC-LOCATION:Europe/Paris
BEGIN:STANDARD
DTSTART:20231029T020000
TZOFFSETFROM:+0200
TZOFFSETTO:+0100
TZNAME:CET
END:STANDARD
END:VTIMEZONE
END:VCALENDAR