BEGIN:VCALENDAR
VERSION:2.0
PRODID:-//wp-events-plugin.com//7.2.3.1//EN
TZID:Europe/Paris
X-WR-TIMEZONE:Europe/Paris
BEGIN:VEVENT
UID:3100@bananierbleu.fr
DTSTART;TZID=Europe/Paris:20200228T213000
DTEND;TZID=Europe/Paris:20200228T213000
DTSTAMP:20200126T184459Z
URL:https://bananierbleu.fr/concerts-test/korinn-traversee-sortie-dalbum/
SUMMARY:Körinn “Traversée” - sortie d'album - Sunside - 28 Fév 20 21
 :30
DESCRIPTION:Körinn – chant \; Michel Alibo – basse \; Christophe Négr
 it – batterie \; James Muller – percussions \; Ruddy Boa – piano\n\n
 \n\nLa chanteuse guadeloupéenne Körinn nous invite au concert de sortie 
 de son premier album "Traversée"\, entourée de musiciens de la scène é
 mergente du jazz français. Une voix nouvelle\, ancrée dans la tradition 
 et le jazz\, qui crée une passerelle pour relier le monde musical caribé
 en à l’universel. Un vent de fraicheur souffle dans l’univers du jazz
  vocal caribéen !\n\nRelisez l'article du Bananier bleu ici.\n\n
ATTACH;FMTTYPE=image/jpeg:https://bananierbleu.fr/wp-content/uploads/2020/
 01/korinn-flyer.jpg
CATEGORIES:Concerts en France
LOCATION:Sunside\, 60\, rue des Lombards\, Paris\, Île de France\, 75001\,
  IleDeFrance\, France
GEO:48.859937;2.347751
X-APPLE-STRUCTURED-LOCATION;VALUE=URI;X-ADDRESS=60\, rue des Lombards\, Par
 is\, Île de France\, 75001\, IleDeFrance\, France;X-APPLE-RADIUS=100;X-TI
 TLE=Sunside:geo:48.859937,2.347751
END:VEVENT
BEGIN:VTIMEZONE
TZID:Europe/Paris
X-LIC-LOCATION:Europe/Paris
BEGIN:STANDARD
DTSTART:20191027T020000
TZOFFSETFROM:+0200
TZOFFSETTO:+0100
TZNAME:CET
END:STANDARD
END:VTIMEZONE
END:VCALENDAR