BEGIN:VCALENDAR
VERSION:2.0
PRODID:-//wp-events-plugin.com//7.2.3.1//EN
TZID:Europe/Paris
X-WR-TIMEZONE:Europe/Paris
BEGIN:VEVENT
UID:3657@bananierbleu.fr
DTSTART;TZID=America/Guadeloupe:20230817T200000
DTEND;TZID=America/Guadeloupe:20230818T200000
DTSTAMP:20230708T084447Z
URL:https://bananierbleu.fr/concerts-test/la-creole-jazz-festival-autour-d
 es-freres-fanfant/
SUMMARY:[La Créole Jazz Festival] Autour des frères Fanfant - La Créole 
 Jazz Club - 17 Août 23 20:00
DESCRIPTION:« Autour des frères Fanfant ». Tarifs : 25 euros (prévente)
  et 35 euros (hors prévente). Réservez vos places dès maintenant sur ht
 tps://www.billetweb.fr/pro/lacreolejazzclub.\nDescription : Issus d’une 
 famille de musiciens guadeloupéens depuis trois générations\, Thierry e
 t Jean-Philippe sont deux grands musiciens talentueux et reconnus. De parf
 aits ambassadeurs d’une musique créole qu’ils savent mêler à d’au
 tres influences\, comme le jazz ou le Gwo ka. Au cours de deux soirées un
 iques\, ils seront accompagnés de Jean-Michel Lesdel et Patrice Hulman.\n
 Jean-Philippe Fanfant / batterie\nThierry Fanfant / basse\nJean-Michel Les
 del / piano\nPatrice Hulman / voix\n1er concert de la soirée : LC TRIO
ATTACH;FMTTYPE=image/jpeg:https://bananierbleu.fr/wp-content/uploads/2023/
 07/Fanfant17-18.jpg
CATEGORIES:Concerts en Guadeloupe
LOCATION:La Créole Jazz Club\, Pointe de la Verdure\, Le Gosier\, Guadelou
 pe\, 97190\, Guadeloupe\, Guadeloupe
GEO:16.206832;-61.50359980000002
X-APPLE-STRUCTURED-LOCATION;VALUE=URI;X-ADDRESS=Pointe de la Verdure\, Le G
 osier\, Guadeloupe\, 97190\, Guadeloupe\, Guadeloupe;X-APPLE-RADIUS=100;X-
 TITLE=La Créole Jazz Club:geo:16.206832,-61.50359980000002
END:VEVENT
BEGIN:VTIMEZONE
TZID:America/Guadeloupe
X-LIC-LOCATION:America/Guadeloupe
BEGIN:STANDARD
DTSTART:20220817T200000
TZOFFSETFROM:-0400
TZOFFSETTO:-0400
TZNAME:AST
END:STANDARD
END:VTIMEZONE
END:VCALENDAR