BEGIN:VCALENDAR
VERSION:2.0
PRODID:-//wp-events-plugin.com//7.2.3.1//EN
TZID:Europe/Paris
X-WR-TIMEZONE:Europe/Paris
BEGIN:VEVENT
UID:3654@bananierbleu.fr
DTSTART;TZID=America/Guadeloupe:20230815T220000
DTEND;TZID=America/Guadeloupe:20230815T220000
DTSTAMP:20230708T084025Z
URL:https://bananierbleu.fr/concerts-test/la-creole-jazz-festival-georges-
 granville-michel-alibo-arnaud-dolmen/
SUMMARY:[La Créole Jazz Festival] Georges Granville + Michel Alibo & Arnau
 d Dolmen - La Créole Jazz Club - 15 Août 23 22:00
DESCRIPTION:Georges Granville + Michel Alibo et Arnaud Dolmen. Tarifs : 15 
 euros (prévente) et 25 euros (hors prévente). Réservez vos places dès 
 maintenant sur https://www.billetweb.fr/pro/lacreolejazzclub.\nDescription
  : « Perspectives » est le premier album de Georges Granville\, pianiste
  et claviériste possédant plus de vingt ans d'expérience. Album de jazz
  aux accents rythmiques et harmoniques d'une finesse remarquable\, il poss
 ède toutes les qualités des meilleures productions modernes. Les composi
 tions originales sont influencées par ses propres expériences et par les
  musiciens de jazz qu'il affectionne particulièrement\, tels que Lyle May
 s\, Chick Corea et Keith Jarrett...\nGeorges Granville / piano\nMichel Ali
 bo / contrebasse\nArnaud Dolmen / batterie\n1er concert : GRÉGORY PRIVAT 
 (SOLO)
ATTACH;FMTTYPE=image/jpeg:https://bananierbleu.fr/wp-content/uploads/2023/
 07/Granville16.jpg
CATEGORIES:Concerts en Guadeloupe
LOCATION:La Créole Jazz Club\, Pointe de la Verdure\, Le Gosier\, Guadelou
 pe\, 97190\, Guadeloupe\, Guadeloupe
GEO:16.206832;-61.50359980000002
X-APPLE-STRUCTURED-LOCATION;VALUE=URI;X-ADDRESS=Pointe de la Verdure\, Le G
 osier\, Guadeloupe\, 97190\, Guadeloupe\, Guadeloupe;X-APPLE-RADIUS=100;X-
 TITLE=La Créole Jazz Club:geo:16.206832,-61.50359980000002
END:VEVENT
BEGIN:VTIMEZONE
TZID:America/Guadeloupe
X-LIC-LOCATION:America/Guadeloupe
BEGIN:STANDARD
DTSTART:20220815T220000
TZOFFSETFROM:-0400
TZOFFSETTO:-0400
TZNAME:AST
END:STANDARD
END:VTIMEZONE
END:VCALENDAR