BEGIN:VCALENDAR
VERSION:2.0
PRODID:-//wp-events-plugin.com//7.2.3.1//EN
TZID:Europe/Paris
X-WR-TIMEZONE:Europe/Paris
BEGIN:VEVENT
UID:3660@bananierbleu.fr
DTSTART;TZID=America/Guadeloupe:20230813T200000
DTEND;TZID=America/Guadeloupe:20230813T200000
DTSTAMP:20230708T084824Z
URL:https://bananierbleu.fr/concerts-test/la-creole-jazz-festival-stephane
 -castry-dominik-coco/
SUMMARY:[La Créole Jazz Festival] Stéphane Castry + Dominik Coco - La Cr
 éole Jazz Club - 13 Août 23 20:00
DESCRIPTION:Stéphane Castry + Dominik Coco. Tarif : 10€. Concert dans le
  cadre du goûter en musique du dimanche\, à partir de 15h30. Réservatio
 n sur https://www.billetweb.fr/pro/lacreolejazzclub\nDescription : Stépha
 ne Castry invite Dominik Coco pour un moment musical autour de quelques-un
 s des titres emblématiques du chanteur.\nDominik Coco / voix\, percussion
 s\nStéphane Castry / basse\nAudray Clodion / claviers\nSonny Troupé / ba
 tterie
ATTACH;FMTTYPE=image/jpeg:https://bananierbleu.fr/wp-content/uploads/2023/
 07/Castry-Coco-13.jpg
CATEGORIES:Concerts en Guadeloupe
LOCATION:La Créole Jazz Club\, Pointe de la Verdure\, Le Gosier\, Guadelou
 pe\, 97190\, Guadeloupe\, Guadeloupe
GEO:16.206832;-61.50359980000002
X-APPLE-STRUCTURED-LOCATION;VALUE=URI;X-ADDRESS=Pointe de la Verdure\, Le G
 osier\, Guadeloupe\, 97190\, Guadeloupe\, Guadeloupe;X-APPLE-RADIUS=100;X-
 TITLE=La Créole Jazz Club:geo:16.206832,-61.50359980000002
END:VEVENT
BEGIN:VTIMEZONE
TZID:America/Guadeloupe
X-LIC-LOCATION:America/Guadeloupe
BEGIN:STANDARD
DTSTART:20220813T200000
TZOFFSETFROM:-0400
TZOFFSETTO:-0400
TZNAME:AST
END:STANDARD
END:VTIMEZONE
END:VCALENDAR