BEGIN:VCALENDAR
VERSION:2.0
PRODID:-//wp-events-plugin.com//7.2.3.1//EN
TZID:Europe/Paris
X-WR-TIMEZONE:Europe/Paris
BEGIN:VEVENT
UID:3661@bananierbleu.fr
DTSTART;TZID=America/Guadeloupe:20230801T200000
DTEND;TZID=America/Guadeloupe:20230801T200000
DTSTAMP:20230708T085053Z
URL:https://bananierbleu.fr/concerts-test/la-creole-jazz-festival-sylvain-
 joseph/
SUMMARY:[La Créole Jazz Festival] Sylvain Joseph - La Créole Jazz Club - 
 1 Août 23 20:00
DESCRIPTION:Sylvain Joseph - Guest artist. Tarifs : 15 euros (prévente) et
  25 euros (hors prévente). Réservez vos places dès maintenant sur https
 ://www.billetweb.fr/pro/lacreolejazzclub.\nDescription : Sylvain Joseph es
 t l’invité du trio maison\, sur un répertoire instrumental (Jazz Fusio
 n\, Smooth Jazz\, Créole Jazz).\nSylvain Joseph / sax\nSylvain Ransy / pi
 ano\nDominiq Mirval / basse\nEdwin Budon / batterie\n2eme concert de la so
 irée : MARIO CANONGE TRIO
ATTACH;FMTTYPE=image/jpeg:https://bananierbleu.fr/wp-content/uploads/2023/
 07/Joseph01.jpg
CATEGORIES:Concerts en Guadeloupe
LOCATION:La Créole Jazz Club\, Pointe de la Verdure\, Le Gosier\, Guadelou
 pe\, 97190\, Guadeloupe\, Guadeloupe
GEO:16.206832;-61.50359980000002
X-APPLE-STRUCTURED-LOCATION;VALUE=URI;X-ADDRESS=Pointe de la Verdure\, Le G
 osier\, Guadeloupe\, 97190\, Guadeloupe\, Guadeloupe;X-APPLE-RADIUS=100;X-
 TITLE=La Créole Jazz Club:geo:16.206832,-61.50359980000002
END:VEVENT
BEGIN:VTIMEZONE
TZID:America/Guadeloupe
X-LIC-LOCATION:America/Guadeloupe
BEGIN:STANDARD
DTSTART:20220801T200000
TZOFFSETFROM:-0400
TZOFFSETTO:-0400
TZNAME:AST
END:STANDARD
END:VTIMEZONE
END:VCALENDAR