BEGIN:VCALENDAR
VERSION:2.0
PRODID:-//wp-events-plugin.com//7.2.3.1//EN
TZID:Europe/Paris
X-WR-TIMEZONE:Europe/Paris
BEGIN:VEVENT
UID:257@bananierbleu.fr
DTSTART;TZID=Europe/Paris:20120713T203000
DTEND;TZID=Europe/Paris:20120713T230000
DTSTAMP:20120624T160402Z
URL:https://bananierbleu.fr/concerts-test/la-perfecta/
SUMMARY:la Perfecta - LaKaza - 13 Juil 12 20:30
DESCRIPTION:Après son succès au Grand Méchant Zouk au Zénith de Paris\,
  l’inoubliable Perfecta débarque à Lakasa\, le vendredi 13 juillet ave
 c en invité Raph THAMAR…\nà partir de 20h30…\n\nPass disponibles dan
 s les stations Total…\n\nEt samedi 14 juillet\, La Perfecta se produira 
 à la Discothèque le Touloulou à Marie Galante à partir de 23h30 ..
CATEGORIES:Concerts en Guadeloupe
LOCATION:LaKaza\, rue Thomas Edison\, Baie-Mahault\, Guadeloupe\, 97122\, G
 uadeloupe\, France
GEO:16.253401;-61.565601
X-APPLE-STRUCTURED-LOCATION;VALUE=URI;X-ADDRESS=rue Thomas Edison\, Baie-Ma
 hault\, Guadeloupe\, 97122\, Guadeloupe\, France;X-APPLE-RADIUS=100;X-TITL
 E=LaKaza:geo:16.253401,-61.565601
END:VEVENT
BEGIN:VTIMEZONE
TZID:Europe/Paris
X-LIC-LOCATION:Europe/Paris
BEGIN:DAYLIGHT
DTSTART:20120325T030000
TZOFFSETFROM:+0100
TZOFFSETTO:+0200
TZNAME:CEST
END:DAYLIGHT
END:VTIMEZONE
END:VCALENDAR