BEGIN:VCALENDAR
VERSION:2.0
PRODID:-//wp-events-plugin.com//7.2.3.1//EN
TZID:Europe/Paris
X-WR-TIMEZONE:Europe/Paris
BEGIN:VEVENT
UID:438@bananierbleu.fr
DTSTART;TZID=Europe/Paris:20130323T190000
DTEND;TZID=Europe/Paris:20130323T190000
DTSTAMP:20130320T202356Z
URL:https://bananierbleu.fr/concerts-test/la-ruee-vers-lorgue/
SUMMARY:La ruée vers l'Orgue - Calebasse Café - 23 Mar 13 19:00
DESCRIPTION:Samedi soir 23 mars \, à 19 heures au Calebasse café le Marin
 \, le rendez vous des amateurs d'orgue Hammond....Gérard Manuel a sorti s
 on gros B3 pour l'occasion.Rare\, à ne pas rater!\nUne belle rencontre mu
 sicale avec C. Saint Prix\, JP Privat\, P. Rémion et M. Marnet!
CATEGORIES:Concerts en Martinique
LOCATION:Calebasse Café\, 19\, bd Allègre\, le Marin\, Martinique\, 97290
 \, Martinique\, Martinique
GEO:14.4696191;-60.870746499999996
X-APPLE-STRUCTURED-LOCATION;VALUE=URI;X-ADDRESS=19\, bd Allègre\, le Marin
 \, Martinique\, 97290\, Martinique\, Martinique;X-APPLE-RADIUS=100;X-TITLE
 =Calebasse Café:geo:14.4696191,-60.870746499999996
END:VEVENT
BEGIN:VTIMEZONE
TZID:Europe/Paris
X-LIC-LOCATION:Europe/Paris
BEGIN:STANDARD
DTSTART:20121028T020000
TZOFFSETFROM:+0200
TZOFFSETTO:+0100
TZNAME:CET
END:STANDARD
END:VTIMEZONE
END:VCALENDAR