BEGIN:VCALENDAR
VERSION:2.0
PRODID:-//wp-events-plugin.com//7.2.3.1//EN
TZID:Europe/Paris
X-WR-TIMEZONE:Europe/Paris
BEGIN:VEVENT
UID:520@bananierbleu.fr
DTSTART;TZID=Europe/Paris:20130522T200000
DTEND;TZID=Europe/Paris:20130522T200000
DTSTAMP:20130507T204319Z
URL:https://bananierbleu.fr/concerts-test/ladell-mclin/
SUMMARY:Ladell McLin - l'Instant - 22 Mai 13 20:00
DESCRIPTION:LADELL McLIN\nMercredi 22 mai 2013\nPréventes : 20€\nSur pla
 ce le 22 Mai : 25€\nSans consommation
CATEGORIES:Concerts en Guadeloupe
LOCATION:l'Instant\, Morne Vergain\, Abymes\, Guadeloupe\, 97139\, Guadelou
 pe\, Guadeloupe
GEO:16.265;-61.55099999999999
X-APPLE-STRUCTURED-LOCATION;VALUE=URI;X-ADDRESS=Morne Vergain\, Abymes\, Gu
 adeloupe\, 97139\, Guadeloupe\, Guadeloupe;X-APPLE-RADIUS=100;X-TITLE=l'In
 stant:geo:16.265,-61.55099999999999
END:VEVENT
BEGIN:VTIMEZONE
TZID:Europe/Paris
X-LIC-LOCATION:Europe/Paris
BEGIN:DAYLIGHT
DTSTART:20130331T030000
TZOFFSETFROM:+0100
TZOFFSETTO:+0200
TZNAME:CEST
END:DAYLIGHT
END:VTIMEZONE
END:VCALENDAR