BEGIN:VCALENDAR
VERSION:2.0
PRODID:-//wp-events-plugin.com//7.2.3.1//EN
TZID:Europe/Paris
X-WR-TIMEZONE:Europe/Paris
BEGIN:VEVENT
UID:3745@bananierbleu.fr
DTSTART;TZID=Europe/Paris:20240202T200000
DTEND;TZID=Europe/Paris:20240202T200000
DTSTAMP:20240115T161733Z
URL:https://bananierbleu.fr/concerts-test/laura-prince-1ere-partie-chamarr
 ee/
SUMMARY:Laura Prince + 1e Partie : Chamarrée - Le JAM - 2 Fév 24 20:00
DESCRIPTION:La chanteuse franco-togolaise\, Laura Prince\, nous propose une
  musique épurée et colorée\, un premier album magnifique\, un savant m
 élange d’influences jazz\, afro et soul sublimé par sa voix envoûtant
 e.\n\nArtiste associée du JAM\, Chamarrée\, auteure-compositrice-interpr
 ète\, parle d’amour\, de désillusion\, de doutes\, d’espoir et de re
 naissance\, dans un univers folk\, soul et jazz.\n\nLine-up :\nLaura Princ
 e : Chant\nGrégory Privat : Piano\nTilo Bertholo : Batterie\nZacharie Abr
 aham : Contrebasse\n\nExtrait : https://www.youtube.com/c/LauraPrinceoffic
 iel\nVenez en Tram !\nLigne 4 – Arrêt Saint-Martin
ATTACH;FMTTYPE=image/jpeg:https://bananierbleu.fr/wp-content/uploads/2024/
 01/LauraPrince.jpg
CATEGORIES:Concerts en France
LOCATION:Le JAM\, 100 rue Ferdinand de Lesseps\, Montpellier\, Occitanie\, 
 34000\, Occitanie\, France
GEO:43.5936252;3.8783366000000115
X-APPLE-STRUCTURED-LOCATION;VALUE=URI;X-ADDRESS=100 rue Ferdinand de Lessep
 s\, Montpellier\, Occitanie\, 34000\, Occitanie\, France;X-APPLE-RADIUS=10
 0;X-TITLE=Le JAM:geo:43.5936252,3.8783366000000115
END:VEVENT
BEGIN:VTIMEZONE
TZID:Europe/Paris
X-LIC-LOCATION:Europe/Paris
BEGIN:STANDARD
DTSTART:20231029T020000
TZOFFSETFROM:+0200
TZOFFSETTO:+0100
TZNAME:CET
END:STANDARD
END:VTIMEZONE
END:VCALENDAR