BEGIN:VCALENDAR
VERSION:2.0
PRODID:-//wp-events-plugin.com//7.2.3.1//EN
TZID:Europe/Paris
X-WR-TIMEZONE:Europe/Paris
BEGIN:VEVENT
UID:3965@bananierbleu.fr
DTSTART;TZID=Europe/Paris:20250624T203000
DTEND;TZID=Europe/Paris:20250624T203000
DTSTAMP:20250529T101057Z
URL:https://bananierbleu.fr/concerts-test/laura-prince/
SUMMARY:Laura Prince - New Morning - 24 Juin 25 20:30
DESCRIPTION:\n 	Personnel : Laura Prince (chant)\, Samuel Agossou (percussi
 on)\, Victor Dey Junior (piano)\n 	Présentation : Laura Prince présente 
 son nouvel album "Adjoko"\, un voyage musical explorant ses origines et so
 n héritage. Collaborant avec des musiciens locaux\, elle fusionne jazz\, 
 soul et pop avec des chants traditionnels.\n
ATTACH;FMTTYPE=image/jpeg:https://bananierbleu.fr/wp-content/uploads/2025/
 05/Laura_Prince.jpg
CATEGORIES:Concerts en France
LOCATION:New Morning\, 7-9 rue des Petites Ecuries\, Paris\, Île de France
 \, 75010\, IleDeFrance\, France
GEO:48.8732;2.35323
X-APPLE-STRUCTURED-LOCATION;VALUE=URI;X-ADDRESS=7-9 rue des Petites Ecuries
 \, Paris\, Île de France\, 75010\, IleDeFrance\, France;X-APPLE-RADIUS=10
 0;X-TITLE=New Morning:geo:48.8732,2.35323
END:VEVENT
BEGIN:VTIMEZONE
TZID:Europe/Paris
X-LIC-LOCATION:Europe/Paris
BEGIN:DAYLIGHT
DTSTART:20250330T030000
TZOFFSETFROM:+0100
TZOFFSETTO:+0200
TZNAME:CEST
END:DAYLIGHT
END:VTIMEZONE
END:VCALENDAR