BEGIN:VCALENDAR
VERSION:2.0
PRODID:-//wp-events-plugin.com//7.2.3.1//EN
TZID:Europe/Paris
X-WR-TIMEZONE:Europe/Paris
BEGIN:VEVENT
UID:261@bananierbleu.fr
DTSTART;TZID=Europe/Paris:20120707T200000
DTEND;TZID=Europe/Paris:20120707T220000
DTSTAMP:20120630T085027Z
URL:https://bananierbleu.fr/concerts-test/le-duo/
SUMMARY:Le Duo - Espace L - 7 Juil 12 20:00
DESCRIPTION:Eric DALPHRASE (Ténor) & Jean-Michel LESDEL (Piano) de nouveau
  réunis pour un show exceptionnel où le lyrique côtoie le jazz et la mu
 sique populaire. Ils vous attendent dans un cadre agréable pour un dîner
 -concert. A ne rater sous aucun prétexte !
CATEGORIES:Concerts en Guadeloupe
LOCATION:Espace L\, Jarry\, Baie-Mahault\, Guadeloupe\, 97122\, Guadeloupe\
 , Guadeloupe
GEO:16.242013;-61.55486100000002
X-APPLE-STRUCTURED-LOCATION;VALUE=URI;X-ADDRESS=Jarry\, Baie-Mahault\, Guad
 eloupe\, 97122\, Guadeloupe\, Guadeloupe;X-APPLE-RADIUS=100;X-TITLE=Espace
  L:geo:16.242013,-61.55486100000002
END:VEVENT
BEGIN:VTIMEZONE
TZID:Europe/Paris
X-LIC-LOCATION:Europe/Paris
BEGIN:DAYLIGHT
DTSTART:20120325T030000
TZOFFSETFROM:+0100
TZOFFSETTO:+0200
TZNAME:CEST
END:DAYLIGHT
END:VTIMEZONE
END:VCALENDAR