BEGIN:VCALENDAR
VERSION:2.0
PRODID:-//wp-events-plugin.com//7.2.3.1//EN
TZID:Europe/Paris
X-WR-TIMEZONE:Europe/Paris
BEGIN:VEVENT
UID:561@bananierbleu.fr
DTSTART;TZID=Europe/Paris:20130709T193000
DTEND;TZID=Europe/Paris:20130709T193000
DTSTAMP:20130622T152812Z
URL:https://bananierbleu.fr/concerts-test/le-jazz-de-demain-celia-wa/
SUMMARY:[Le jazz de demain] - Celia Wa - le Baiser Salé - 9 Juil 13 19:30
DESCRIPTION:CELIA WA - "Wa's project"\nEric Delblond basse\, Yassin Kramdi 
 clavier\,\nSwaany choeurs Sonny Troupé batterie/tambour\,\nCélia Wa lead
  vocal/flute.\n"Célia Wa\, la jeune auteur\, compositeur et interprète s
 e dévoile avec son projet musical\, le "Wa's project". Ce projet est un c
 ondensé de ses diverses influences\, une rencontre entre l'électro et l'
 acoustique autour de compositions originales teintées d'influences\, hip 
 hop\, jazz\, reggae et gwo ka. Une musique métissé et énergique\, à l'
 ame caribéenne et universelle qui vous reserve de belles surprises!" 
CATEGORIES:Concerts en France
LOCATION:le Baiser Salé\, 58\, rue des Lombards\, Paris\, Île de France\,
  75001\, IleDeFrance\, France
GEO:48.8598;2.34791
X-APPLE-STRUCTURED-LOCATION;VALUE=URI;X-ADDRESS=58\, rue des Lombards\, Par
 is\, Île de France\, 75001\, IleDeFrance\, France;X-APPLE-RADIUS=100;X-TI
 TLE=le Baiser Salé:geo:48.8598,2.34791
END:VEVENT
BEGIN:VTIMEZONE
TZID:Europe/Paris
X-LIC-LOCATION:Europe/Paris
BEGIN:DAYLIGHT
DTSTART:20130331T030000
TZOFFSETFROM:+0100
TZOFFSETTO:+0200
TZNAME:CEST
END:DAYLIGHT
END:VTIMEZONE
END:VCALENDAR