BEGIN:VCALENDAR
VERSION:2.0
PRODID:-//wp-events-plugin.com//7.2.3.1//EN
TZID:Europe/Paris
X-WR-TIMEZONE:Europe/Paris
BEGIN:VEVENT
UID:568@bananierbleu.fr
DTSTART;TZID=Europe/Paris:20130720T213000
DTEND;TZID=Europe/Paris:20130720T213000
DTSTAMP:20130622T161325Z
URL:https://bananierbleu.fr/concerts-test/le-jazz-de-demain-rafael-paseiro
 -np-project/
SUMMARY:[le Jazz de demain] - Rafael Paseiro - NP Project - le Baiser Salé
  - 20 Juil 13 21:30
DESCRIPTION:Philippe Baden Powell piano\, Julie Saury batterie\,\nRicardo I
 zquierdo sax\, Inor Sotolongo percus\,\nRafael Paseiro basse.\nNP Project 
 mêle différentes tendances du jazz contemporain à travers les compositi
 ons du bassiste Rafael Paseiro. Il nous offre un répertoire entièrement 
 original\, riche en harmonies et en couleurs grâce à la complicité de P
 hilippe Baden Powell (piano)\, Julie Saury (batterie)\, Inor Sotolongo (pe
 rcussions) et Ricardo Izquierdo (saxophones). 
CATEGORIES:Concerts en France
LOCATION:le Baiser Salé\, 58\, rue des Lombards\, Paris\, Île de France\,
  75001\, IleDeFrance\, France
GEO:48.8598;2.34791
X-APPLE-STRUCTURED-LOCATION;VALUE=URI;X-ADDRESS=58\, rue des Lombards\, Par
 is\, Île de France\, 75001\, IleDeFrance\, France;X-APPLE-RADIUS=100;X-TI
 TLE=le Baiser Salé:geo:48.8598,2.34791
END:VEVENT
BEGIN:VTIMEZONE
TZID:Europe/Paris
X-LIC-LOCATION:Europe/Paris
BEGIN:DAYLIGHT
DTSTART:20130331T030000
TZOFFSETFROM:+0100
TZOFFSETTO:+0200
TZNAME:CEST
END:DAYLIGHT
END:VTIMEZONE
END:VCALENDAR