BEGIN:VCALENDAR
VERSION:2.0
PRODID:-//wp-events-plugin.com//7.2.3.1//EN
TZID:Europe/Paris
X-WR-TIMEZONE:Europe/Paris
BEGIN:VEVENT
UID:2989@bananierbleu.fr
DTSTART;TZID=America/Guadeloupe:20190926T203000
DTEND;TZID=America/Guadeloupe:20190926T203000
DTSTAMP:20190916T101130Z
URL:https://bananierbleu.fr/concerts-test/leedyah-barlagne-et-alberto-garc
 ia-fayad/
SUMMARY:Leedyah Barlagne et Alberto Garcia Fayad - New Ti'Paris - 26 Sep 19
  20:30
DESCRIPTION:Leedyah BARLAGNE et Alberto GARCIA FAYAD en duo\nau New Ti Pari
 s\n\nLeedyah Barlagne (Chant )\nAlberto Garcia Fayad (Violoncelle)\n\nLeed
 yah BARLAGNE est une interprète au lyrisme et à la technique achevée\, 
 ultra précise\, tout est dans la beauté du détail. Elle sera en Duo ave
 c Alberto GARCIA FAYAD\, ce merveilleux musicien cubain\, pour notre plais
 ir.\n\n"Une rencontre Entre un Violoncelle et une Voix dans un duo inédit
 \, qui vont ensemble parcourir un répertoire aux milles saveurs. De balla
 des suaves à du Groove assumé rythmés au cajon\, le violoncelle et la v
 oix dévoileront leurs métamorphoses..."\n\n(Participation 07 euros pour 
 la clientèle qui dîne - 14 euros pour les personnes qui viennent juste p
 rendre un verre)
ATTACH;FMTTYPE=image/jpeg:https://bananierbleu.fr/wp-content/uploads/2019/
 09/69875088_10158000130535955_6991675998714462208_n.jpg
CATEGORIES:Concerts en Guadeloupe
LOCATION:New Ti'Paris\, Perinet\, Le Gosier\, Guadeloupe\, 97190\, Guadelou
 pe\, Guadeloupe
GEO:16.2077962;-61.48492470000002
X-APPLE-STRUCTURED-LOCATION;VALUE=URI;X-ADDRESS=Perinet\, Le Gosier\, Guade
 loupe\, 97190\, Guadeloupe\, Guadeloupe;X-APPLE-RADIUS=100;X-TITLE=New Ti'
 Paris:geo:16.2077962,-61.48492470000002
END:VEVENT
BEGIN:VTIMEZONE
TZID:America/Guadeloupe
X-LIC-LOCATION:America/Guadeloupe
BEGIN:STANDARD
DTSTART:20180926T203000
TZOFFSETFROM:-0400
TZOFFSETTO:-0400
TZNAME:AST
END:STANDARD
END:VTIMEZONE
END:VCALENDAR