BEGIN:VCALENDAR
VERSION:2.0
PRODID:-//wp-events-plugin.com//7.2.3.1//EN
TZID:Europe/Paris
X-WR-TIMEZONE:Europe/Paris
BEGIN:VEVENT
UID:2678@bananierbleu.fr
DTSTART;TZID=Europe/Paris:20181025T210000
DTEND;TZID=Europe/Paris:20181025T210000
DTSTAMP:20180814T131342Z
URL:https://bananierbleu.fr/concerts-test/leila-negrau-2/
SUMMARY:Leila Negrau - Le JAM - 25 Oct 18 21:00
DESCRIPTION:Chanteuse et percussionniste de l’île de la Réunion\, Leila
  Négrau est auteure compositrice\, ce soir sur la scène du JAM\, avec Ol
 ivier Roman Garcia\, Bénilde Fodjo Foko\, fred Marchal et Fred Breton ses
  complices. Elle affirme un style musical original\, une écriture teinté
 e d’humour\, chaleureuse et volcanique inspiré du Maloya et du Séga. S
 on image est liée à son univers de chanteuse\, dynamique\, populaire\, d
 élivrant un message simple de femme épanouie\, un moment festif\, dansan
 t\, entraînant\, convivial. C’est pour cela qu’elle parcourt le monde
  depuis tant d’année à la rencontre de son public.\n\nLine-Up\n\nLeila
  Negrau : Chant\, Percussions / Olivier Roman Garcia : Guitare / Séga Sec
 k : Batterie / Bénilde Foko : Basse / Fred Breton : Claviers\n
ATTACH;FMTTYPE=image/jpeg:https://bananierbleu.fr/wp-content/uploads/2018/
 08/20181025_NEGRAU.jpg
CATEGORIES:Concerts en France
LOCATION:Le JAM\, 100 rue Ferdinand de Lesseps\, Montpellier\, Occitanie\, 
 34000\, Occitanie\, France
GEO:43.5936252;3.8783366000000115
X-APPLE-STRUCTURED-LOCATION;VALUE=URI;X-ADDRESS=100 rue Ferdinand de Lessep
 s\, Montpellier\, Occitanie\, 34000\, Occitanie\, France;X-APPLE-RADIUS=10
 0;X-TITLE=Le JAM:geo:43.5936252,3.8783366000000115
END:VEVENT
BEGIN:VTIMEZONE
TZID:Europe/Paris
X-LIC-LOCATION:Europe/Paris
BEGIN:DAYLIGHT
DTSTART:20180325T030000
TZOFFSETFROM:+0100
TZOFFSETTO:+0200
TZNAME:CEST
END:DAYLIGHT
END:VTIMEZONE
END:VCALENDAR