BEGIN:VCALENDAR
VERSION:2.0
PRODID:-//wp-events-plugin.com//7.2.3.1//EN
TZID:Europe/Paris
X-WR-TIMEZONE:Europe/Paris
BEGIN:VEVENT
UID:1763@bananierbleu.fr
DTSTART;TZID=Europe/Paris:20160512T223000
DTEND;TZID=Europe/Paris:20160512T223000
DTSTAMP:20160403T175315Z
URL:https://bananierbleu.fr/concerts-test/leila-negrau/
SUMMARY:Leila Negrau - Le JAM - 12 Mai 16 22:30
DESCRIPTION:Soirée d'ouverture des Paillotes du JAM\nAvec les beaux jours\
 , le Jam ouvre son jardin au public et se transforme en paillote. Chaque J
 eudi et vendredi\, dès 18h30\, du 12 mai au 10 juin\, on peut s’install
 er dans le jardin\, déguster la musique d’un groupe acoustique\, visite
 r les expositions proposées par les artistes peintres\, sculpteurs\, phot
 ographes…\, se rencontrer pour l’apéro sous les cannisses du bar ou a
 utour des tables champêtres avec au menu tapas\, assiettes diverses\, ver
 re de vin et bières. Trois concerts dans la soirée\, avec une programmat
 ion éclectique : Les formations retenues sont un tremplin pour les music
 iens issus de l’école JAM et pour les groupes régionaux.\n\n\nLe progr
 amme : 20h Naïma Trio – 21h15 Scotch &amp\; Sofa – 22h30 Leïla Negra
 u\n\nEt donc\, en ce qui concerne Leila Negrau :\n\nConcert pour la sortie
  de l'album Va te coiffer. Avec Olivier-Roman Garcia à la guitare\, Sega 
 Seck à la batterie\, Benilde Foko à la basse et Fred Breton aux claviers
 .\n\nVA TE COIFFER est le quatrième album de l’artiste réunionnaise Le
 ila Négrau\, après Jolie Madame en 1996\, Oumassi en 2006 et Kouler Malo
 ya en 2011. Leila livre un album généreux\, intense\, tendre et plein d
 ’humour. 15 chansons composent cet album de variété internationale aux
  sonorités qui mêlent maloya\, afro-rock\, pop\, jazz et rythmes sud-am
 éricains. Les textes intimes et sensuels sont présentés dans le livret.
  Lionel Gaillardin (Benjamin Biolay\, Henri Salvador «jardin d’hiver»\
 , Véronique Sanson)\, a réalisé la plupart des titres de l’album. Pas
 cal Morel\, Julien Ascencio et Philippe Verdier  ont complété la réali
 sation. Olivier Roman Garcia\, Bénilde Fodjo Foko\, Séga Seck\, Fred Bre
 ton ses complices sur scène\, l’accompagnent dans son dernier opus.\n\n
 &nbsp\;\n\n&nbsp\;
ATTACH;FMTTYPE=image/jpeg:https://bananierbleu.fr/wp-content/uploads/2016/
 04/12885774_658668970938110_6040168095504199157_o.jpg
CATEGORIES:Concerts en France
LOCATION:Le JAM\, 100 rue Ferdinand de Lesseps\, Montpellier\, Occitanie\, 
 34000\, Occitanie\, France
GEO:43.5936252;3.8783366000000115
X-APPLE-STRUCTURED-LOCATION;VALUE=URI;X-ADDRESS=100 rue Ferdinand de Lessep
 s\, Montpellier\, Occitanie\, 34000\, Occitanie\, France;X-APPLE-RADIUS=10
 0;X-TITLE=Le JAM:geo:43.5936252,3.8783366000000115
END:VEVENT
BEGIN:VTIMEZONE
TZID:Europe/Paris
X-LIC-LOCATION:Europe/Paris
BEGIN:DAYLIGHT
DTSTART:20160327T030000
TZOFFSETFROM:+0100
TZOFFSETTO:+0200
TZNAME:CEST
END:DAYLIGHT
END:VTIMEZONE
END:VCALENDAR