BEGIN:VCALENDAR
VERSION:2.0
PRODID:-//wp-events-plugin.com//7.2.3.1//EN
TZID:Europe/Paris
X-WR-TIMEZONE:Europe/Paris
BEGIN:VEVENT
UID:817@bananierbleu.fr
DTSTART;TZID=Europe/Paris:20140516T213000
DTEND;TZID=Europe/Paris:20140516T213000
DTSTAMP:20140411T104053Z
URL:https://bananierbleu.fr/concerts-test/les-caribeennes-de-mai-alain-jea
 n-marie-be-bop-trio/
SUMMARY:[Les Caribéennes de mai] Alain Jean-Marie "Be Bop" Trio - le Baise
 r Salé - 16 Mai 14 21:30
DESCRIPTION:Alain Jean-Marie piano\, Gilles Naturel contrebasse\,\nJohn Bet
 sch batterie\nMagnifique représentant du be-bop et du biguine\, Alain Jea
 n-Marie s'entoure de deux musiciens non moins connus pour nous livrer bril
 lamment un répertoire constitué de standards recouvrant à peu près tou
 te l'histoire du jazz. Grand accompagnateur\, Alain Jean-Marie a joué aup
 rès des plus connus : Hal Singer\, Sonny Stitt\, Max Roach\, Art Taylor\,
  Chet Baker\, Johnny Griffin\, Dee Dee Bridgewater.
LOCATION:le Baiser Salé\, 58\, rue des Lombards\, Paris\, Île de France\,
  75001\, IleDeFrance\, France
GEO:48.8598;2.34791
X-APPLE-STRUCTURED-LOCATION;VALUE=URI;X-ADDRESS=58\, rue des Lombards\, Par
 is\, Île de France\, 75001\, IleDeFrance\, France;X-APPLE-RADIUS=100;X-TI
 TLE=le Baiser Salé:geo:48.8598,2.34791
END:VEVENT
BEGIN:VTIMEZONE
TZID:Europe/Paris
X-LIC-LOCATION:Europe/Paris
BEGIN:DAYLIGHT
DTSTART:20140330T030000
TZOFFSETFROM:+0100
TZOFFSETTO:+0200
TZNAME:CEST
END:DAYLIGHT
END:VTIMEZONE
END:VCALENDAR