BEGIN:VCALENDAR
VERSION:2.0
PRODID:-//wp-events-plugin.com//7.2.3.1//EN
TZID:Europe/Paris
X-WR-TIMEZONE:Europe/Paris
BEGIN:VEVENT
UID:3750@bananierbleu.fr
DTSTART;TZID=Europe/Paris:20240425T200000
DTEND;TZID=Europe/Paris:20240425T200000
DTSTAMP:20240125T150806Z
URL:https://bananierbleu.fr/concerts-test/les-jeudis-jazz-magazine-gregory
 -privat-trio/
SUMMARY:[Les Jeudis Jazz Magazine] Grégory Privat Trio - le Bal Blomet - 2
 5 Avr 24 20:00
DESCRIPTION:À la tête de son exceptionnel trio\, le pianiste et chanteur 
 Grégory Privat présentera le répertoire de Phoenix d'ores et déjà sal
 ué par la critique comme un disque majeur\, entre spiritual jazz\, pop et
  chants créoles. une première immanquable.\n\n\nGrégory Privat (pno\, k
 eys\, vcls)\, Chris Jennings (b)\, Tilo Bertholo (dms)
ATTACH;FMTTYPE=image/jpeg:https://bananierbleu.fr/wp-content/uploads/2024/
 01/GPrivat_BalBlomet.jpg
CATEGORIES:Concerts en France
LOCATION:le Bal Blomet\, 33 rue Blomet\, Paris\, Île de France\, 75015\, I
 leDeFrance\, France
GEO:48.8426312;2.3061755999999605
X-APPLE-STRUCTURED-LOCATION;VALUE=URI;X-ADDRESS=33 rue Blomet\, Paris\, Îl
 e de France\, 75015\, IleDeFrance\, France;X-APPLE-RADIUS=100;X-TITLE=le B
 al Blomet:geo:48.8426312,2.3061755999999605
END:VEVENT
BEGIN:VTIMEZONE
TZID:Europe/Paris
X-LIC-LOCATION:Europe/Paris
BEGIN:DAYLIGHT
DTSTART:20240331T030000
TZOFFSETFROM:+0100
TZOFFSETTO:+0200
TZNAME:CEST
END:DAYLIGHT
END:VTIMEZONE
END:VCALENDAR