BEGIN:VCALENDAR
VERSION:2.0
PRODID:-//wp-events-plugin.com//7.2.3.1//EN
TZID:Europe/Paris
X-WR-TIMEZONE:Europe/Paris
BEGIN:VEVENT
UID:2409@bananierbleu.fr
DTSTART;TZID=Europe/Paris:20171015T180000
DTEND;TZID=Europe/Paris:20171015T180000
DTSTAMP:20171013T071446Z
URL:https://bananierbleu.fr/concerts-test/les-voix-dhaiti/
SUMMARY:Les Voix d'Haïti - New Morning - 15 Oct 17 18:00
DESCRIPTION:\nPour la reconstruction du Centre d'Art de Port-au-Prince\n\n\
 n&nbsp\;\n\n\nEn parallèle d'une grande vente aux enchères qui aura lieu
  à la galerie Piasa à Paris sur le thème « Art haïtien\, de 1940 à n
 os jours ».\n\nQuatre grandes voix d'Haïti (James Germain\, Beethova Oba
 s\, Melissa Laveaux et Ayiti Coles ALIAS "AYIITI") seront unies dimanche 1
 5 octobre sur la scène mythique du New Morning pour un concert d'exceptio
 n\, visant essentiellement à faire une levée de fonds pour la reconstruc
 tion du Centre d'Art de Port-au Prince\, détruit par le séisme de 2010.\
 n\nA la direction musicale de ce spectacle\, le bassiste Thierry Fanfant.\
 n\nCe concert aura lieu dans le cadre de la FIAC (Foire Internationale d'A
 rt Contemporain). Une manifestation majeure et très réputée\, organisé
 e chaque année depuis 1974. Le Centre d'art est aujourd'hui à la croisé
 e des chemins. Fort de sa renommée\, il doit se doter des meilleurs outil
 s pour mener son rôle de leader et de référence. La reconstruction du C
 entre d'Art est aujourd'hui prioritaire pour les cinq prochaines années. 
 Il doit se doter d'infrastructures adéquates. La levée de fonds qui se f
 era au travers de la vente aux enchères et du concert permettra donc de c
 réer sur le site actuel du Centre d'art un espace durable de 3000 m2 et l
 e plus autosuffisant possible. La qualité architecturale retranscrira à 
 la fois dignité\, inclusion et modernité.\n\n\n\n== Line up ==\nJames Ge
 rmain (Voix)\, Beethova Obas (Voix)\, Mélissa Laveaux (Voix)\, Ayiti Cole
 s (Voix) - Dans les chœurs\, Dominique Lorté\, Sonia Pinel-Féréol.\n\n
 \n\n
ATTACH;FMTTYPE=image/jpeg:https://bananierbleu.fr/wp-content/uploads/2017/
 10/voixhaiti.jpg
CATEGORIES:Concerts en France
LOCATION:New Morning\, 7-9 rue des Petites Ecuries\, Paris\, Île de France
 \, 75010\, IleDeFrance\, France
GEO:48.8732;2.35323
X-APPLE-STRUCTURED-LOCATION;VALUE=URI;X-ADDRESS=7-9 rue des Petites Ecuries
 \, Paris\, Île de France\, 75010\, IleDeFrance\, France;X-APPLE-RADIUS=10
 0;X-TITLE=New Morning:geo:48.8732,2.35323
END:VEVENT
BEGIN:VTIMEZONE
TZID:Europe/Paris
X-LIC-LOCATION:Europe/Paris
BEGIN:DAYLIGHT
DTSTART:20170326T030000
TZOFFSETFROM:+0100
TZOFFSETTO:+0200
TZNAME:CEST
END:DAYLIGHT
END:VTIMEZONE
END:VCALENDAR