BEGIN:VCALENDAR
VERSION:2.0
PRODID:-//wp-events-plugin.com//7.2.3.1//EN
TZID:Europe/Paris
X-WR-TIMEZONE:Europe/Paris
BEGIN:VEVENT
UID:579@bananierbleu.fr
DTSTART;TZID=Europe/Paris:20130724T200000
DTEND;TZID=Europe/Paris:20130724T200000
DTSTAMP:20130713T213715Z
URL:https://bananierbleu.fr/concerts-test/linstant-jazz-donald-harrison-ec
 hange-avec-artefact/
SUMMARY:[l'Instant Jazz] Donald Harrison échange avec Artefact - l'Instant
  - 24 Juil 13 20:00
DESCRIPTION:Rencontre exceptionnelle entre le saxophoniste emblématique de
  la Nouvelle Orléans\, Donald Harrison\, et le groupe Artefact emmené pa
 r Marc Jalet\, avec Alex Jabot\, Dominique Bérose et Raymond Grégo.\n\nV
 ente des Tickets "Prévente" 20€\n- Boutique RCI à Destrellan\,\n- l'IN
 STANT CLUB\, Morne Vergain\, de 8h30 à 13h00\n- Station Total Poucette Go
 sier\n\nLe jour du Concert 25€
CATEGORIES:Concerts en Guadeloupe
LOCATION:l'Instant\, Morne Vergain\, Abymes\, Guadeloupe\, 97139\, Guadelou
 pe\, Guadeloupe
GEO:16.265;-61.55099999999999
X-APPLE-STRUCTURED-LOCATION;VALUE=URI;X-ADDRESS=Morne Vergain\, Abymes\, Gu
 adeloupe\, 97139\, Guadeloupe\, Guadeloupe;X-APPLE-RADIUS=100;X-TITLE=l'In
 stant:geo:16.265,-61.55099999999999
END:VEVENT
BEGIN:VTIMEZONE
TZID:Europe/Paris
X-LIC-LOCATION:Europe/Paris
BEGIN:DAYLIGHT
DTSTART:20130331T030000
TZOFFSETFROM:+0100
TZOFFSETTO:+0200
TZNAME:CEST
END:DAYLIGHT
END:VTIMEZONE
END:VCALENDAR