BEGIN:VCALENDAR
VERSION:2.0
PRODID:-//wp-events-plugin.com//7.2.3.1//EN
TZID:Europe/Paris
X-WR-TIMEZONE:Europe/Paris
BEGIN:VEVENT
UID:539@bananierbleu.fr
DTSTART;TZID=Europe/Paris:20130619T200000
DTEND;TZID=Europe/Paris:20130619T200000
DTSTAMP:20130529T171925Z
URL:https://bananierbleu.fr/concerts-test/linstant-jazz-tony-morgan-group/
SUMMARY:[l'Instant Jazz] Tony Morgan Group - l'Instant - 19 Juin 13 20:00
DESCRIPTION:L'INSTANT - MORNE VERGAIN - LES ABYMES 97139\nTONY MORGAN GROUP
 \nMercredi 19 JUIN 2013\nPréventes : 20€\nSur place : 25€\nSans conso
 mmation\n\nà Partir du 3 juin 2013 :\nVente des Tickets "Prévente" à la
  Boutique RCI à Destrellan\,\net à l'INSTANT CLUB\, Morne Vergain\, de 8
 h30 à 13h00\n0690 739 639\n0690 135 165
CATEGORIES:Concerts en Guadeloupe
LOCATION:l'Instant\, Morne Vergain\, Abymes\, Guadeloupe\, 97139\, Guadelou
 pe\, Guadeloupe
GEO:16.265;-61.55099999999999
X-APPLE-STRUCTURED-LOCATION;VALUE=URI;X-ADDRESS=Morne Vergain\, Abymes\, Gu
 adeloupe\, 97139\, Guadeloupe\, Guadeloupe;X-APPLE-RADIUS=100;X-TITLE=l'In
 stant:geo:16.265,-61.55099999999999
END:VEVENT
BEGIN:VTIMEZONE
TZID:Europe/Paris
X-LIC-LOCATION:Europe/Paris
BEGIN:DAYLIGHT
DTSTART:20130331T030000
TZOFFSETFROM:+0100
TZOFFSETTO:+0200
TZNAME:CEST
END:DAYLIGHT
END:VTIMEZONE
END:VCALENDAR