BEGIN:VCALENDAR
VERSION:2.0
PRODID:-//wp-events-plugin.com//7.2.3.1//EN
TZID:Europe/Paris
X-WR-TIMEZONE:Europe/Paris
BEGIN:VEVENT
UID:2384@bananierbleu.fr
DTSTART;TZID=Europe/Paris:20170927T210000
DTEND;TZID=Europe/Paris:20170927T210000
DTSTAMP:20170927T092336Z
URL:https://bananierbleu.fr/concerts-test/lionel-benbanaste/
SUMMARY:Lionel Benbanaste - New Ti'Paris - 27 Sep 17 21:00
DESCRIPTION:Remarquable pianiste doté d'une grande musicalité\, une sensi
 bilité très affirmée et à la générosité presque déroutante. Instal
 lé en Guadeloupe depuis 2005\, nous l’avons entendu dans l’ensemble d
 e de Jocelyn Menard ou Happy Lewis ou encore avec son trio « ALPHA ». \n
 Il débute le piano dès l’âge de 3 ans à Lyon sa ville natale ou il f
 ait ses études classique. Jeune espoir du piano jazz français en 1993\, 
 il devient l'élève du légendaire et maitre du piano jazz: Martial SOLAL
 \, côtoie des monstres sacrés tels que Michel Petrucciani\, Birélie Lag
 rene .. ou encore le grand cinéaste Frank Cassenti.\nNous sommes très ho
 noré de recevoir Lionel BENBANASTE au New Ti Paris\, un moment musical pl
 ein de grâce vous attend pour bien commencer la semaine en Musique.
ATTACH;FMTTYPE=image/jpeg:https://bananierbleu.fr/wp-content/uploads/2017/
 09/21766682_1342101639235827_5287730308745428953_n.jpg
CATEGORIES:Concerts en Guadeloupe
LOCATION:New Ti'Paris\, Perinet\, Le Gosier\, Guadeloupe\, 97190\, Guadelou
 pe\, Guadeloupe
GEO:16.2077962;-61.48492470000002
X-APPLE-STRUCTURED-LOCATION;VALUE=URI;X-ADDRESS=Perinet\, Le Gosier\, Guade
 loupe\, 97190\, Guadeloupe\, Guadeloupe;X-APPLE-RADIUS=100;X-TITLE=New Ti'
 Paris:geo:16.2077962,-61.48492470000002
END:VEVENT
BEGIN:VTIMEZONE
TZID:Europe/Paris
X-LIC-LOCATION:Europe/Paris
BEGIN:DAYLIGHT
DTSTART:20170326T030000
TZOFFSETFROM:+0100
TZOFFSETTO:+0200
TZNAME:CEST
END:DAYLIGHT
END:VTIMEZONE
END:VCALENDAR