BEGIN:VCALENDAR
VERSION:2.0
PRODID:-//wp-events-plugin.com//7.2.3.1//EN
TZID:Europe/Paris
X-WR-TIMEZONE:Europe/Paris
BEGIN:VEVENT
UID:3943@bananierbleu.fr
DTSTART;TZID=Europe/Paris:20250419T200000
DTEND;TZID=Europe/Paris:20250419T200000
DTSTAMP:20250407T100538Z
URL:https://bananierbleu.fr/concerts-test/maddy-orsinet-quartet/
SUMMARY:Maddy Orsinet Quartet - Le Son de la Terre - 19 Avr 25 20:00
DESCRIPTION:Maddy Orsinet – Chant\nPaco Man’Alma – Piano\nBenji Barbe
  – Basse\nGuillermo Rojas – Percussions
ATTACH;FMTTYPE=image/jpeg:https://bananierbleu.fr/wp-content/uploads/2025/
 04/MaddyOrsinet4tet_web-1.jpg
CATEGORIES:Concerts en France
LOCATION:Le Son de la Terre\, Port Montebello\, Paris\, Île de France\, 75
 005\, IleDeFrance\, France
X-APPLE-STRUCTURED-LOCATION;VALUE=URI;X-ADDRESS=Port Montebello\, Paris\, 
 Île de France\, 75005\, IleDeFrance\, France;X-APPLE-RADIUS=100;X-TITLE=L
 e Son de la Terre:geo:0,0
END:VEVENT
BEGIN:VTIMEZONE
TZID:Europe/Paris
X-LIC-LOCATION:Europe/Paris
BEGIN:DAYLIGHT
DTSTART:20250330T030000
TZOFFSETFROM:+0100
TZOFFSETTO:+0200
TZNAME:CEST
END:DAYLIGHT
END:VTIMEZONE
END:VCALENDAR