BEGIN:VCALENDAR
VERSION:2.0
PRODID:-//wp-events-plugin.com//7.2.3.1//EN
TZID:Europe/Paris
X-WR-TIMEZONE:Europe/Paris
BEGIN:VEVENT
UID:2431@bananierbleu.fr
DTSTART;TZID=Europe/Paris:20171104T213000
DTEND;TZID=Europe/Paris:20171104T213000
DTSTAMP:20171101T143827Z
URL:https://bananierbleu.fr/concerts-test/magic-malik-jazz-association-5te
 t-2/
SUMMARY:Magic Malik Jazz Association 5tet - le Baiser Salé - 4 Nov 17 21:3
 0
DESCRIPTION:Magic Malik (fl)\, Olivier Laisney (tp)\, Maxime Sanchez (pno)\
 , Mauro Gargano (cb)\, Stefano Lucchini (dms)\n\nL'un des plus grands flû
 tistes du jazz français\, qui a parcouru toutes les scènes aussi bien en
  leader ( Magic Malik Orchestra\, en Duo avec Minino Garay\, ...) qu'en in
 vité (Julien Lourau\, Steve Coleman\, Hocus Pocus\,...)\, revient avec ce
  tout nouveau projet aux côtés de talents du jazz français issus d'hori
 zons divers. Véritable communion avec les compositeurs et le&nbsp\;réper
 toire du jazz toutes époques confondues&nbsp\;car le Jazz change peut êt
 re de forme mais son essence démocratique\, incorruptible et exutoire se 
 transmet sans discontinuer. Notre époque à grand besoin d’espace d’e
 xpression libre. Magic Malik propose au travers des anciens qui nous ont l
 égué\, parfois dans l’oppression\, de vivre des moments d’évasion e
 t de liberté au vu et au nez de tous et en leur hommage.
ATTACH;FMTTYPE=image/jpeg:https://bananierbleu.fr/wp-content/uploads/2017/
 10/22861624_2001020956591104_2869726107848767228_o.jpg
CATEGORIES:Concerts en France
LOCATION:le Baiser Salé\, 58\, rue des Lombards\, Paris\, Île de France\,
  75001\, IleDeFrance\, France
GEO:48.8598;2.34791
X-APPLE-STRUCTURED-LOCATION;VALUE=URI;X-ADDRESS=58\, rue des Lombards\, Par
 is\, Île de France\, 75001\, IleDeFrance\, France;X-APPLE-RADIUS=100;X-TI
 TLE=le Baiser Salé:geo:48.8598,2.34791
END:VEVENT
BEGIN:VTIMEZONE
TZID:Europe/Paris
X-LIC-LOCATION:Europe/Paris
BEGIN:STANDARD
DTSTART:20171029T020000
TZOFFSETFROM:+0200
TZOFFSETTO:+0100
TZNAME:CET
END:STANDARD
END:VTIMEZONE
END:VCALENDAR