BEGIN:VCALENDAR
VERSION:2.0
PRODID:-//wp-events-plugin.com//7.2.3.1//EN
TZID:Europe/Paris
X-WR-TIMEZONE:Europe/Paris
BEGIN:VEVENT
UID:2170@bananierbleu.fr
DTSTART;TZID=Europe/Paris:20170408T213000
DTEND;TZID=Europe/Paris:20170408T213000
DTSTAMP:20170327T072740Z
URL:https://bananierbleu.fr/concerts-test/magic-malik-jazz-association-5te
 t/
SUMMARY:Magic Malik Jazz Association 5tet - le Baiser Salé - 8 Avr 17 21:3
 0
DESCRIPTION:Magic Malik flûte\, Olivier Laisney trompette\, Maxime Sanchez
  piano\, Damien Viraillon cbasse\, Stefano Lucchini batterie\n\nL'un des p
 lus grands flûtistes du jazz français\, qui a parcouru toutes les scène
 s aussi bien en leader ( Magic Malik Orchestra\, en Duo avec Minino Garay\
 , ...) qu'en invité (Julien Lourau\, Steve Coleman\, Hocus Pocus\,...)\, 
 revient avec ce tout nouveau projet aux côtés de talents du jazz frança
 is issus d'horizons divers. Ce projet est né de l’envie de retrouver l
 ’esprit du Jazz dans la lettre. Et de communier de façon la plus direct
 e possible avec les compositeurs et le répertoire du jazz toutes époques
  confondues car le Jazz change peut être de forme mais son essence démoc
 ratique\, incorruptible et exutoire se transmet sans discontinuer. Notre 
 époque à grand besoin d’espace d’expression libre. Magic Malik propo
 se au travers des anciens qui nous ont légué parfois dans l’oppression
 \, de vivre des moments d’évasion et de liberté au vu et au nez de tou
 s et en leur hommage.
ATTACH;FMTTYPE=image/jpeg:https://bananierbleu.fr/wp-content/uploads/2010/
 01/Iloj1002.jpg
CATEGORIES:Concerts en France
LOCATION:le Baiser Salé\, 58\, rue des Lombards\, Paris\, Île de France\,
  75001\, IleDeFrance\, France
GEO:48.8598;2.34791
X-APPLE-STRUCTURED-LOCATION;VALUE=URI;X-ADDRESS=58\, rue des Lombards\, Par
 is\, Île de France\, 75001\, IleDeFrance\, France;X-APPLE-RADIUS=100;X-TI
 TLE=le Baiser Salé:geo:48.8598,2.34791
END:VEVENT
BEGIN:VTIMEZONE
TZID:Europe/Paris
X-LIC-LOCATION:Europe/Paris
BEGIN:DAYLIGHT
DTSTART:20170326T030000
TZOFFSETFROM:+0100
TZOFFSETTO:+0200
TZNAME:CEST
END:DAYLIGHT
END:VTIMEZONE
END:VCALENDAR