BEGIN:VCALENDAR
VERSION:2.0
PRODID:-//wp-events-plugin.com//7.2.3.1//EN
TZID:Europe/Paris
X-WR-TIMEZONE:Europe/Paris
BEGIN:VEVENT
UID:3751@bananierbleu.fr
DTSTART;TZID=Europe/Paris:20240203T200000
DTEND;TZID=Europe/Paris:20240203T200000
DTSTAMP:20240126T090024Z
URL:https://bananierbleu.fr/concerts-test/magou-samb-dakar-transe-music/
SUMMARY:Magou Samb & Dakar Transe Music - la Bellevilloise - 3 Fév 24 20:0
 0
DESCRIPTION:Véritable trait d’union entre la connexion ancestrale et la 
 modernité\, Magou SAMB\, est un artiste inspiré. Il puise dans la mixit
 é culturelle une puissante énergie. Les valeurs de respect et de partage
  colorent sa voix et ses compositions. Il sait se faire alchimiste\, et mu
 ltiplier les expériences musicales.\n\nAvec lui\, le voyage n’est pas a
 nodin\, c’est notre curiosité qui est suscitée\, il nous guide dans ce
 tte découverte avec subtilité et amour.\n\nDans son nouvel album {Dom Ad
 ama}\, dédié à la cause écologiste et humaniste\, le Sénégalais Magu
 ette Samb aka Magou aborde divers thèmes relatif à l’effet négatif de
  l’homme sur l’environnement\, tels que la pollution et le réchauffem
 ent climatique\, comme dans « Dom Adama » (« le pollueur »\, et litté
 ralement « fils d’Adam » ou « l’homme »\, « l’être humain » e
 n wolof) ou « Guygui » (le baobab rebelle). Il y parle aussi de la force
  de l’amour\, de la justice\, de la paix dans le monde\, et rend hommage
  aux Femmes.\n\n{Dom Adama} est comme un conte parlant de l’homme modern
 e face à la surconsommation et le stress dans les grandes villes : « Un 
 Parisien qui part dans le désert\, les pieds nus\, sans trouver de répon
 se ! De retour à Paris\, un oiseau lui dit : « Tu veux la paix ? Sois en
  paix avec toi-même\, commence à dire bonjour à tes voisins et respecte
  ton environnement !!! « »\n\nC’est un retour aux sources\, un mélang
 e de racines et de modernité… responsable. Alliant voix\, guitares acou
 stiques et percussions\, sur des univers très variés\, {Dom Adama} est u
 ne invitation à un voyage dans l’émotion et la douceur au fin fond de 
 l’Afrique et à travers le monde\, brisant ainsi les frontières…
ATTACH;FMTTYPE=image/jpeg:https://bananierbleu.fr/wp-content/uploads/2024/
 01/Magou_Samb.webp
CATEGORIES:Concerts en France
LOCATION:la Bellevilloise\, 19-21 Rue Boyer\, Paris\, Île de France\, 7502
 0\, IleDeFrance\, France
GEO:48.868586;2.392174
X-APPLE-STRUCTURED-LOCATION;VALUE=URI;X-ADDRESS=19-21 Rue Boyer\, Paris\, 
 Île de France\, 75020\, IleDeFrance\, France;X-APPLE-RADIUS=100;X-TITLE=l
 a Bellevilloise:geo:48.868586,2.392174
END:VEVENT
BEGIN:VTIMEZONE
TZID:Europe/Paris
X-LIC-LOCATION:Europe/Paris
BEGIN:STANDARD
DTSTART:20231029T020000
TZOFFSETFROM:+0200
TZOFFSETTO:+0100
TZNAME:CET
END:STANDARD
END:VTIMEZONE
END:VCALENDAR