BEGIN:VCALENDAR
VERSION:2.0
PRODID:-//wp-events-plugin.com//7.2.3.1//EN
TZID:Europe/Paris
X-WR-TIMEZONE:Europe/Paris
BEGIN:VEVENT
UID:2354@bananierbleu.fr
DTSTART;TZID=Europe/Paris:20170902T190000
DTEND;TZID=Europe/Paris:20170902T190000
DTSTAMP:20170827T105147Z
URL:https://bananierbleu.fr/concerts-test/maher-beauroy-insula-hommage-a-f
 rantz-fanon/
SUMMARY:Maher Beauroy - Insula\, Hommage à Frantz Fanon - le Baiser Salé 
 - 2 Sep 17 19:00
DESCRIPTION:Projet transversal qui touche à la fois la musique et la litt
 érature. Oudiste et musicologue franco-algérien Redha Benabdallah et Mah
 er Beauroy rendent hommage au penseur et essayiste Frantz Fanon\, figure e
 mblématique du tiers-mondisme qui a livré une pensée novatrice sur la q
 uestion de la colonisation. Tout en mettant en musique sa pensée\, le tri
 o crée un pont musical entre la musique algérienne\, maghrébine et cari
 béenne. Le jeune pianiste Maher Beauroy multiplie les projets inventivifs
  auxquels il mêle avec génie ses racines martiniquaises. Marc Pujol n’
 a de cesse d’explorer des univers musicaux riches et variés avec son co
 llectif Chinese Man. Redha Benabdallah est de ceux qui continuent à trans
 mettre le patrimoine de la musique classique du Maghreb et de l’Andalous
 ie\, qu'il développe avec son ensemble Al Baycin.
ATTACH;FMTTYPE=image/jpeg:https://bananierbleu.fr/wp-content/uploads/2017/
 08/7y54.jpeg
LOCATION:le Baiser Salé\, 58\, rue des Lombards\, Paris\, Île de France\,
  75001\, IleDeFrance\, France
GEO:48.8598;2.34791
X-APPLE-STRUCTURED-LOCATION;VALUE=URI;X-ADDRESS=58\, rue des Lombards\, Par
 is\, Île de France\, 75001\, IleDeFrance\, France;X-APPLE-RADIUS=100;X-TI
 TLE=le Baiser Salé:geo:48.8598,2.34791
END:VEVENT
BEGIN:VTIMEZONE
TZID:Europe/Paris
X-LIC-LOCATION:Europe/Paris
BEGIN:DAYLIGHT
DTSTART:20170326T030000
TZOFFSETFROM:+0100
TZOFFSETTO:+0200
TZNAME:CEST
END:DAYLIGHT
END:VTIMEZONE
END:VCALENDAR