BEGIN:VCALENDAR
VERSION:2.0
PRODID:-//wp-events-plugin.com//7.2.3.1//EN
TZID:Europe/Paris
X-WR-TIMEZONE:Europe/Paris
BEGIN:VEVENT
UID:3869@bananierbleu.fr
DTSTART;TZID=Europe/Paris:20241212T190000
DTEND;TZID=Europe/Paris:20241212T190000
DTSTAMP:20241207T115653Z
URL:https://bananierbleu.fr/concerts-test/maher-beauroy-quartet/
SUMMARY:Maher Beauroy Quartet - le Baiser Salé - 12 Déc 24 19:00
DESCRIPTION:\n\n\n 	MAHER BEAUROY piano/voix\n 	RALPH LAVITAL guitare\n 	GW
 EN LA II basse\n 	TILO BERTHOLO batterie\n\n\nPianiste\, chanteur\, auteur
 /compositeur martiniquais Maher Beauroy possède un solide parcours acadé
 mique et découvre le jazz au Sermac de Fort-de-France\, école d'art cré
 ée par Aimé Césaire\, Accompagné des meilleurs musiciens du paysage ja
 zzistique \, Maher Beauroy vous invite à un voyage musical unique. Entre 
 les échos familiers de ses deux précédents albums et la fraîcheur de c
 ompositions inédites\, vous assisterez à une alchimie vibrante où jazz\
 , rythmes caribéens et mélodies intimes se rencontrent.\n\n
ATTACH;FMTTYPE=image/jpeg:https://bananierbleu.fr/wp-content/uploads/2024/
 12/MaherBeauroy.jpg
CATEGORIES:Concerts en France
LOCATION:le Baiser Salé\, 58\, rue des Lombards\, Paris\, Île de France\,
  75001\, IleDeFrance\, France
GEO:48.8598;2.34791
X-APPLE-STRUCTURED-LOCATION;VALUE=URI;X-ADDRESS=58\, rue des Lombards\, Par
 is\, Île de France\, 75001\, IleDeFrance\, France;X-APPLE-RADIUS=100;X-TI
 TLE=le Baiser Salé:geo:48.8598,2.34791
END:VEVENT
BEGIN:VTIMEZONE
TZID:Europe/Paris
X-LIC-LOCATION:Europe/Paris
BEGIN:STANDARD
DTSTART:20241027T020000
TZOFFSETFROM:+0200
TZOFFSETTO:+0100
TZNAME:CET
END:STANDARD
END:VTIMEZONE
END:VCALENDAR