BEGIN:VCALENDAR
VERSION:2.0
PRODID:-//wp-events-plugin.com//7.2.3.1//EN
TZID:Europe/Paris
X-WR-TIMEZONE:Europe/Paris
BEGIN:VEVENT
UID:3099@bananierbleu.fr
DTSTART;TZID=America/Guadeloupe:20200124T200000
DTEND;TZID=America/Guadeloupe:20200124T200000
DTSTAMP:20200122T201814Z
URL:https://bananierbleu.fr/concerts-test/majad-quartet/
SUMMARY:Majad Quartet - Chez Henri - 24 Jan 20 20:00
DESCRIPTION:Jazz caribéen\, avec Majad (vcls)\, François Denyze (g)\, Alb
 erto Fayad Garcia (b)\, Rémy Castelain (perc)
ATTACH;FMTTYPE=image/jpeg:https://bananierbleu.fr/wp-content/uploads/2020/
 01/majad.jpg
CATEGORIES:Concerts en Guadeloupe
LOCATION:Chez Henri\, 8\, avenue des Caraïbes\, Saint Louis de Marie-Galan
 te\, Guadeloupe\, 97134\, Guadeloupe\, Guadeloupe
GEO:15.954149;-61.318902
X-APPLE-STRUCTURED-LOCATION;VALUE=URI;X-ADDRESS=8\, avenue des Caraïbes\, 
 Saint Louis de Marie-Galante\, Guadeloupe\, 97134\, Guadeloupe\, Guadeloup
 e;X-APPLE-RADIUS=100;X-TITLE=Chez Henri:geo:15.954149,-61.318902
END:VEVENT
BEGIN:VTIMEZONE
TZID:America/Guadeloupe
X-LIC-LOCATION:America/Guadeloupe
BEGIN:STANDARD
DTSTART:20190124T200000
TZOFFSETFROM:-0400
TZOFFSETTO:-0400
TZNAME:AST
END:STANDARD
END:VTIMEZONE
END:VCALENDAR