BEGIN:VCALENDAR
VERSION:2.0
PRODID:-//wp-events-plugin.com//7.2.3.1//EN
TZID:Europe/Paris
X-WR-TIMEZONE:Europe/Paris
BEGIN:VEVENT
UID:3948@bananierbleu.fr
DTSTART;TZID=America/Martinique:20250502T193000
DTEND;TZID=America/Martinique:20250503T193000
DTSTAMP:20250502T133543Z
URL:https://bananierbleu.fr/concerts-test/majestik-poesik/
SUMMARY:Majestik Poésik - Théâtre Aimé Césaire - 2 Mai 25 19:30
DESCRIPTION:\n“Quand Louisette SIMPHOR parle\, c’est toute une mémoire
  qui prend la parole.”\n\n\nPoétesse\, voix totémique\, Louisette SIMP
 HOR vous invite à une traversée poétique unique avec MAJESTIK POÉSIK.\
 n\n\nDeux soirs où sa parole envoûte\, où la musique l’accompagne dan
 s un dialogue vibrant entre les mondes visibles et invisibles.\n\n\n 2 &am
 p\; 3 mai 2025 – 19h30\n Théâtre Municipal Aimé Césaire – Fort-de-
 France\nAvec Christina Goh\, Louisette Simphor\, Nicole Cage\, Dhanijah Am
 acin et Chantal Clem\nAccompagnées par Dominique Bérose\, Thierry Jean-P
 ierre\, Dominique Tauliaut\, John et Hervé Laval.\n
ATTACH;FMTTYPE=image/jpeg:https://bananierbleu.fr/wp-content/uploads/2025/
 05/Majestik_Poesik.jpg
CATEGORIES:Concerts en Martinique
LOCATION:Théâtre Aimé Césaire\, rue Victor Sévère\, Fort de France\, 
 Martinique\, 97200\, Martinique\, Martinique
GEO:14.606071;-61.069853
X-APPLE-STRUCTURED-LOCATION;VALUE=URI;X-ADDRESS=rue Victor Sévère\, Fort 
 de France\, Martinique\, 97200\, Martinique\, Martinique;X-APPLE-RADIUS=10
 0;X-TITLE=Théâtre Aimé Césaire:geo:14.606071,-61.069853
END:VEVENT
BEGIN:VTIMEZONE
TZID:America/Martinique
X-LIC-LOCATION:America/Martinique
BEGIN:STANDARD
DTSTART:20240502T193000
TZOFFSETFROM:-0400
TZOFFSETTO:-0400
TZNAME:AST
END:STANDARD
END:VTIMEZONE
END:VCALENDAR