BEGIN:VCALENDAR
VERSION:2.0
PRODID:-//wp-events-plugin.com//7.2.3.1//EN
TZID:Europe/Paris
X-WR-TIMEZONE:Europe/Paris
BEGIN:VEVENT
UID:408@bananierbleu.fr
DTSTART;TZID=Europe/Paris:20130322T213000
DTEND;TZID=Europe/Paris:20130322T213000
DTSTAMP:20130221T111648Z
URL:https://bananierbleu.fr/concerts-test/makaia-2/
SUMMARY:Makaïa - Swan Bar - 22 Mar 13 21:30
DESCRIPTION:Philippe Makaïa possède un incomparable sens du rythme et de 
 l’improvisation. Il est de ceux qui savent\, par leur intime connaissanc
 e de la musique Gwoka\, vous alléger du fardeau du quotidien\, vous chavi
 rer le corps et l’âme. Alliant tradition et modernité\, il est resté 
 fidèle à l’esprit Gwoka\, cet art total que les esclaves arrachés des
  côtes d’Afrique inventèrent dans les plantations de canne à sucre et
  de café de la Guadeloupe.\n\nVenez nombreux l’ écouter durant cette s
 oirée unique !\nPrix : 10€
CATEGORIES:Concerts en France
LOCATION:Swan Bar\, 165\, bd du Montparnasse\, Paris\, 75006\, Ile de Franc
 e\, France
GEO:48.8412878;2.331932199999983
X-APPLE-STRUCTURED-LOCATION;VALUE=URI;X-ADDRESS=165\, bd du Montparnasse\, 
 Paris\, 75006\, Ile de France\, France;X-APPLE-RADIUS=100;X-TITLE=Swan Bar
 :geo:48.8412878,2.331932199999983
END:VEVENT
BEGIN:VTIMEZONE
TZID:Europe/Paris
X-LIC-LOCATION:Europe/Paris
BEGIN:STANDARD
DTSTART:20121028T020000
TZOFFSETFROM:+0200
TZOFFSETTO:+0100
TZNAME:CET
END:STANDARD
END:VTIMEZONE
END:VCALENDAR