BEGIN:VCALENDAR
VERSION:2.0
PRODID:-//wp-events-plugin.com//7.2.3.1//EN
TZID:Europe/Paris
X-WR-TIMEZONE:Europe/Paris
BEGIN:VEVENT
UID:1116@bananierbleu.fr
DTSTART;TZID=Europe/Paris:20141207T190000
DTEND;TZID=Europe/Paris:20141207T190000
DTSTAMP:20141207T094726Z
URL:https://bananierbleu.fr/concerts-test/makou-seck/
SUMMARY:Makou Seck - la Petite Scène - 7 Déc 14 19:00
DESCRIPTION:MAKOU SECK ACOUSTIQUE AFRO FUSION :\nSCÉNES FESTIV' ZICK DU MO
 NDE .\nCONCERT MAKOU SECK ACOUSTIQUE\nAFRO FUSION\nMakou Seck / Leader : G
 uitare + Percussions + Vocal\nGérald Coquën : Basse\nFranck Nicolas : Tr
 ompette\nSega Seck : Batterie\nLa particularité de la musique de Makou Se
 ck est de mélanger des influences Funk\, Jazz\, Reggae\, Rock\, musique m
 alienne\, avec la musique traditionnelle du Sénégal : le Mbalax ce qui d
 onne le style "Afro Fusion".\nLes messages qu’il délivre au travers de 
 sa musique reflètent sa vision pacifiste du monde\; le respect envers les
  êtres humains\, l'abolition du racisme qui fait encore des ravages de no
 s jours \; l'importance du métissage\, pardonner pour avancer\, donner de
 s valeurs à nos enfants qui construiront le monde de demain..\nDimanche 7
  Décembre 2014\nLa Petite Scène - 6 rue de la Fontaine - Montpellier.\nH
 appy Hours : 19h00 à 21h00\nScène Ouverte : 19h00 à 22h00\nConcert : 22
 h00 à 01h00
CATEGORIES:Concerts en France
LOCATION:la Petite Scène\, 6 rue de la Fontaine\, Montpellier\, Occitanie\
 , 34000\, Occitanie\, France
GEO:43.6076302;3.875891000000024
X-APPLE-STRUCTURED-LOCATION;VALUE=URI;X-ADDRESS=6 rue de la Fontaine\, Mont
 pellier\, Occitanie\, 34000\, Occitanie\, France;X-APPLE-RADIUS=100;X-TITL
 E=la Petite Scène:geo:43.6076302,3.875891000000024
END:VEVENT
BEGIN:VTIMEZONE
TZID:Europe/Paris
X-LIC-LOCATION:Europe/Paris
BEGIN:STANDARD
DTSTART:20141026T020000
TZOFFSETFROM:+0200
TZOFFSETTO:+0100
TZNAME:CET
END:STANDARD
END:VTIMEZONE
END:VCALENDAR