BEGIN:VCALENDAR
VERSION:2.0
PRODID:-//wp-events-plugin.com//7.2.3.1//EN
TZID:Europe/Paris
X-WR-TIMEZONE:Europe/Paris
BEGIN:VEVENT
UID:2415@bananierbleu.fr
DTSTART;TZID=Europe/Paris:20171019T203000
DTEND;TZID=Europe/Paris:20171019T203000
DTSTAMP:20171017T073057Z
URL:https://bananierbleu.fr/concerts-test/mangroove-bay-5/
SUMMARY:Mangroove Bay - La Créole Jazz Club - 19 Oct 17 20:30
DESCRIPTION:Si vous aimez le Jazz Fusion\, ne manquez pas Mangroove Bay sur
  la scène de La Créole Jazz Club. Le groupe propose des compositions ori
 ginales\, mais aussi des reprises tirées du répertoire Jazz Fusion (Herb
 ie Hancock\, Marcus Miller\, Weather Report\, etc.)\n\nNicolas Attie (guit
 are)\nDimitri Édouard (claviers)\nDaniel Reimonenq (basse)\nGuy Herbert (
 batterie)
ATTACH;FMTTYPE=image/jpeg:https://bananierbleu.fr/wp-content/uploads/2017/
 10/22552678_1587263958003499_8506262955601520258_n.jpg
CATEGORIES:Concerts en Guadeloupe
LOCATION:La Créole Jazz Club\, Pointe de la Verdure\, Le Gosier\, Guadelou
 pe\, 97190\, Guadeloupe\, Guadeloupe
GEO:16.206832;-61.50359980000002
X-APPLE-STRUCTURED-LOCATION;VALUE=URI;X-ADDRESS=Pointe de la Verdure\, Le G
 osier\, Guadeloupe\, 97190\, Guadeloupe\, Guadeloupe;X-APPLE-RADIUS=100;X-
 TITLE=La Créole Jazz Club:geo:16.206832,-61.50359980000002
END:VEVENT
BEGIN:VTIMEZONE
TZID:Europe/Paris
X-LIC-LOCATION:Europe/Paris
BEGIN:DAYLIGHT
DTSTART:20170326T030000
TZOFFSETFROM:+0100
TZOFFSETTO:+0200
TZNAME:CEST
END:DAYLIGHT
END:VTIMEZONE
END:VCALENDAR