BEGIN:VCALENDAR
VERSION:2.0
PRODID:-//wp-events-plugin.com//7.2.3.1//EN
TZID:Europe/Paris
X-WR-TIMEZONE:Europe/Paris
BEGIN:VEVENT
UID:3907@bananierbleu.fr
DTSTART;TZID=Europe/Paris:20250226T190000
DTEND;TZID=Europe/Paris:20250226T190000
DTSTAMP:20250222T100403Z
URL:https://bananierbleu.fr/concerts-test/mario-canonge-annick-tangorra-7/
SUMMARY:Mario Canonge & Annick Tangorra - le Baiser Salé - 26 Fév 25 19:0
 0
DESCRIPTION:\n\nAnnick Tangorra (voix)\, Mario Canonge (piano)\n\n\nLe pian
 iste martiniquais Mario Canonge et la chanteuse Annick Tangorra forment un
  duo exceptionnel\, jonglant avec les nuances du jazz avec une aisance hor
 s du commun. Annick Tangorra\, auteure et compositrice\, démontre une voi
 x émouvante\, mêlant lyrisme\, élégance et sensualité. Mario Canonge\
 , maître du piano caribéen\, accompagne avec virtuosité\, offrant une m
 usique festive et mélancolique
ATTACH;FMTTYPE=image/jpeg:https://bananierbleu.fr/wp-content/uploads/2025/
 02/Tangorra_Canonge.jpeg
CATEGORIES:Concerts en France
LOCATION:le Baiser Salé\, 58\, rue des Lombards\, Paris\, Île de France\,
  75001\, IleDeFrance\, France
GEO:48.8598;2.34791
X-APPLE-STRUCTURED-LOCATION;VALUE=URI;X-ADDRESS=58\, rue des Lombards\, Par
 is\, Île de France\, 75001\, IleDeFrance\, France;X-APPLE-RADIUS=100;X-TI
 TLE=le Baiser Salé:geo:48.8598,2.34791
END:VEVENT
BEGIN:VTIMEZONE
TZID:Europe/Paris
X-LIC-LOCATION:Europe/Paris
BEGIN:STANDARD
DTSTART:20241027T020000
TZOFFSETFROM:+0200
TZOFFSETTO:+0100
TZNAME:CET
END:STANDARD
END:VTIMEZONE
END:VCALENDAR