BEGIN:VCALENDAR
VERSION:2.0
PRODID:-//wp-events-plugin.com//7.2.3.1//EN
TZID:Europe/Paris
X-WR-TIMEZONE:Europe/Paris
BEGIN:VEVENT
UID:1938@bananierbleu.fr
DTSTART;TZID=Europe/Paris:20160921T190000
DTEND;TZID=Europe/Paris:20160921T190000
DTSTAMP:20160911T150104Z
URL:https://bananierbleu.fr/concerts-test/mario-canonge-michel-zenino-duo-
 jazz-2/
SUMMARY:Mario Canonge & Michel Zenino duo jazz - le Baiser Salé - 21 Sep 1
 6 19:00
DESCRIPTION:Mario Canonge piano\, Michel Zenino cbasse\n\nMario Canonge\, p
 ianiste martiniquais surdoué\, capable de s'adapter à tous les styles\, 
 propose avec Michel Zenino un rendez-vous de jazz en plein cœur de Paris 
 Mario et le marseillais Michel Zenino\, improvisent tous les mercredi au B
 aiser salé\, qui bénéficie d' une très bonne acoustique. Jamais ils ne
  répétent. Ils lancent des idées\, souvent au téléphone et les réali
 sent en scène
ATTACH;FMTTYPE=image/jpeg:https://bananierbleu.fr/wp-content/uploads/2016/
 05/canonge_zenino_duo.jpg
CATEGORIES:Concerts en France
LOCATION:le Baiser Salé\, 58\, rue des Lombards\, Paris\, Île de France\,
  75001\, IleDeFrance\, France
GEO:48.8598;2.34791
X-APPLE-STRUCTURED-LOCATION;VALUE=URI;X-ADDRESS=58\, rue des Lombards\, Par
 is\, Île de France\, 75001\, IleDeFrance\, France;X-APPLE-RADIUS=100;X-TI
 TLE=le Baiser Salé:geo:48.8598,2.34791
END:VEVENT
BEGIN:VTIMEZONE
TZID:Europe/Paris
X-LIC-LOCATION:Europe/Paris
BEGIN:DAYLIGHT
DTSTART:20160327T030000
TZOFFSETFROM:+0100
TZOFFSETTO:+0200
TZNAME:CEST
END:DAYLIGHT
END:VTIMEZONE
END:VCALENDAR