BEGIN:VCALENDAR
VERSION:2.0
PRODID:-//wp-events-plugin.com//7.2.3.1//EN
TZID:Europe/Paris
X-WR-TIMEZONE:Europe/Paris
BEGIN:VEVENT
UID:550@bananierbleu.fr
DTSTART;TZID=Europe/Paris:20130619T193000
DTEND;TZID=Europe/Paris:20130619T193000
DTSTAMP:20130601T085826Z
URL:https://bananierbleu.fr/concerts-test/mario-canonge-michel-zenino-jazz
 -standards-residence-2/
SUMMARY:Mario Canonge & Michel Zenino - Jazz standards résidence - le Bais
 er Salé - 19 Juin 13 19:30
DESCRIPTION:Mario Canonge piano\, Michel Zenino cbss.\nMario Canonge est un
  formidable jazzman\, et ce duo avec Michel Zenino lui donne l’occasion 
 d’échanger sur des standards tout en gardant un coin de soleil venu des
  Antilles. 
CATEGORIES:Concerts en France
LOCATION:le Baiser Salé\, 58\, rue des Lombards\, Paris\, Île de France\,
  75001\, IleDeFrance\, France
GEO:48.8598;2.34791
X-APPLE-STRUCTURED-LOCATION;VALUE=URI;X-ADDRESS=58\, rue des Lombards\, Par
 is\, Île de France\, 75001\, IleDeFrance\, France;X-APPLE-RADIUS=100;X-TI
 TLE=le Baiser Salé:geo:48.8598,2.34791
END:VEVENT
BEGIN:VTIMEZONE
TZID:Europe/Paris
X-LIC-LOCATION:Europe/Paris
BEGIN:DAYLIGHT
DTSTART:20130331T030000
TZOFFSETFROM:+0100
TZOFFSETTO:+0200
TZNAME:CEST
END:DAYLIGHT
END:VTIMEZONE
END:VCALENDAR