BEGIN:VCALENDAR
VERSION:2.0
PRODID:-//wp-events-plugin.com//7.2.3.1//EN
TZID:Europe/Paris
X-WR-TIMEZONE:Europe/Paris
BEGIN:VEVENT
UID:3265@bananierbleu.fr
DTSTART;TZID=Europe/Paris:20220204T213000
DTEND;TZID=Europe/Paris:20220204T234500
DTSTAMP:20220112T152005Z
URL:https://bananierbleu.fr/concerts-test/mario-canonge-michel-zenino-quin
 tup-17/
SUMMARY:Mario Canonge/Michel Zenino Quint'Up - le Baiser Salé - 4 Fév 22 
 21:30
DESCRIPTION:MARIO CANONGE piano\nMICHEL ZENINO cbasse\nRICARDO IZQUIERDO sa
 x\nJOSIAH WOODSON trompette\nARNAUD DOLMEN batterie\n\nLe duo intangible f
 ormé par le pianiste Mario Canonge et le bassiste Michel Zenino s'adjoint
  des musiciens les plus talentueux de la jeune génération pour former un
  quintet de haut vol\, alliant jazz\, Caraïbes et Hard Bop.\n\nUn jazz on
  ne peut plus rafraichissant\, ancré dans la tradition\, au modernisme dy
 namisé par le talent des jeunes interprètes complétant le quintet. Mari
 o Canonge et Michel Zenino\, plus symbiotiques que jamais\, tiennent l’e
 nsemble de mains de maitres\, grâce à des compositions et des arrangemen
 ts taillés sur mesure.\n\nhttps://www.youtube.com/watch?v=h9g4sHwH_PE
ATTACH;FMTTYPE=image/jpeg:https://bananierbleu.fr/wp-content/uploads/2022/
 01/359-canonge-zenino.jpg
CATEGORIES:Concerts en France
LOCATION:le Baiser Salé\, 58\, rue des Lombards\, Paris\, Île de France\,
  75001\, IleDeFrance\, France
GEO:48.8598;2.34791
X-APPLE-STRUCTURED-LOCATION;VALUE=URI;X-ADDRESS=58\, rue des Lombards\, Par
 is\, Île de France\, 75001\, IleDeFrance\, France;X-APPLE-RADIUS=100;X-TI
 TLE=le Baiser Salé:geo:48.8598,2.34791
END:VEVENT
BEGIN:VTIMEZONE
TZID:Europe/Paris
X-LIC-LOCATION:Europe/Paris
BEGIN:STANDARD
DTSTART:20211031T020000
TZOFFSETFROM:+0200
TZOFFSETTO:+0100
TZNAME:CET
END:STANDARD
END:VTIMEZONE
END:VCALENDAR